BEGIN:VCALENDAR
VERSION:2.0
PRODID:-//Perth Amboy Now - ECPv6.15.20//NONSGML v1.0//EN
CALSCALE:GREGORIAN
METHOD:PUBLISH
X-WR-CALNAME:Perth Amboy Now
X-ORIGINAL-URL:https://perthamboynow.com
X-WR-CALDESC:Events for Perth Amboy Now
REFRESH-INTERVAL;VALUE=DURATION:PT1H
X-Robots-Tag:noindex
X-PUBLISHED-TTL:PT1H
BEGIN:VTIMEZONE
TZID:America/New_York
BEGIN:DAYLIGHT
TZOFFSETFROM:-0500
TZOFFSETTO:-0400
TZNAME:EDT
DTSTART:20160313T070000
END:DAYLIGHT
BEGIN:STANDARD
TZOFFSETFROM:-0400
TZOFFSETTO:-0500
TZNAME:EST
DTSTART:20161106T060000
END:STANDARD
BEGIN:DAYLIGHT
TZOFFSETFROM:-0500
TZOFFSETTO:-0400
TZNAME:EDT
DTSTART:20170312T070000
END:DAYLIGHT
BEGIN:STANDARD
TZOFFSETFROM:-0400
TZOFFSETTO:-0500
TZNAME:EST
DTSTART:20171105T060000
END:STANDARD
BEGIN:DAYLIGHT
TZOFFSETFROM:-0500
TZOFFSETTO:-0400
TZNAME:EDT
DTSTART:20180311T070000
END:DAYLIGHT
BEGIN:STANDARD
TZOFFSETFROM:-0400
TZOFFSETTO:-0500
TZNAME:EST
DTSTART:20181104T060000
END:STANDARD
BEGIN:DAYLIGHT
TZOFFSETFROM:-0500
TZOFFSETTO:-0400
TZNAME:EDT
DTSTART:20190310T070000
END:DAYLIGHT
BEGIN:STANDARD
TZOFFSETFROM:-0400
TZOFFSETTO:-0500
TZNAME:EST
DTSTART:20191103T060000
END:STANDARD
END:VTIMEZONE
BEGIN:VEVENT
DTSTART;TZID=America/New_York:20180630T150000
DTEND;TZID=America/New_York:20180630T170000
DTSTAMP:20260422T053857
CREATED:20180620T002048Z
LAST-MODIFIED:20180620T002254Z
UID:10000416-1530370800-1530378000@perthamboynow.com
SUMMARY:Live at the Ferry Slip Punk Rock Night with Tight Lipped and The Krays
DESCRIPTION:An awesome night of great punk bands! Tight Lipped from Asbury Park play garage punk. The Krays from NYC play street punk rock. The show is free and all ages. Enjoy great live music\, beautiful views of Raritan Bay and visit the Ferry Slip Museum. Also enjoy the food and drinks along the waterfront including an ice cream parlor\, Empanada Express food truck\, nautical and tiki bars and seafood restaurants.
URL:https://perthamboynow.com/event/live-ferry-slip-punk-rock-night-tight-lipped-krays/
LOCATION:Perth Amboy Ferry Slip\, 300 Front St\, Perth Amboy\, NJ\, 08861\, United States
ATTACH;FMTTYPE=image/jpeg:https://perthamboynow.com/wp-content/uploads/2018/06/35079481_1983094975065315_3061296536462819328_o.jpg
GEO:40.5069085;-74.2619773
X-APPLE-STRUCTURED-LOCATION;VALUE=URI;X-ADDRESS=Perth Amboy Ferry Slip 300 Front St Perth Amboy NJ 08861 United States;X-APPLE-RADIUS=500;X-TITLE=300 Front St:geo:-74.2619773,40.5069085
END:VEVENT
BEGIN:VEVENT
DTSTART;TZID=America/New_York:20180602T150000
DTEND;TZID=America/New_York:20180602T170000
DTSTAMP:20260422T053857
CREATED:20180217T212636Z
LAST-MODIFIED:20180404T230819Z
UID:10000723-1527951600-1527958800@perthamboynow.com
SUMMARY:The Rollbacks and The EMKAYs Live at the Ferry Slip
DESCRIPTION:Live at the Ferry Slip Original Music Series is back! Enjoy great live music\, the beautiful moonrise over Raritan Bay\, visit the Ferry Slip Museum and enjoy food and drinks on the waterfront!  Enjoy the kickoff featuring 2 great bands with Perth Amboy roots. The Rollbacks play latin fusion\, combining latin\, jazz\, rock and funk. The eMKays play an eclectic mix of folk\, rock\, jazz\, blues and whatever anyone requests on the back of a hundred dollar bill.
URL:https://perthamboynow.com/event/live-ferry-slip-music-series/
LOCATION:Perth Amboy Ferry Slip\, 300 Front St\, Perth Amboy\, NJ\, 08861\, United States
ATTACH;FMTTYPE=image/gif:https://perthamboynow.com/wp-content/uploads/2018/02/Ferry-Slip-Event2018D.gif
GEO:40.5069085;-74.2619773
X-APPLE-STRUCTURED-LOCATION;VALUE=URI;X-ADDRESS=Perth Amboy Ferry Slip 300 Front St Perth Amboy NJ 08861 United States;X-APPLE-RADIUS=500;X-TITLE=300 Front St:geo:-74.2619773,40.5069085
END:VEVENT
BEGIN:VEVENT
DTSTART;TZID=America/New_York:20171007T150000
DTEND;TZID=America/New_York:20171007T170000
DTSTAMP:20260422T053857
CREATED:20170302T014051Z
LAST-MODIFIED:20170920T202524Z
UID:10000257-1507388400-1507395600@perthamboynow.com
SUMMARY:Segunda Quimbamba & United States of Boogaloo Live at the Ferry Slip
DESCRIPTION:Live at the Ferry Slip Music Series Season Finale on Oct7th featuring 2 great bands  Segunda Quimbama and United States of Boogaloo from 7-9 pm. Enjoy the free performance at the Perth Amboy Ferry Slip.  The event is presented by Perth Amboy Artworks.
URL:https://perthamboynow.com/event/live-ferry-slip-music-series-5/
LOCATION:Perth Amboy Ferry Slip\, 300 Front St\, Perth Amboy\, NJ\, 08861\, United States
ATTACH;FMTTYPE=image/jpeg:https://perthamboynow.com/wp-content/uploads/2017/05/635680077316383575-kjbPAfest052315b.jpg
GEO:40.5069085;-74.2619773
X-APPLE-STRUCTURED-LOCATION;VALUE=URI;X-ADDRESS=Perth Amboy Ferry Slip 300 Front St Perth Amboy NJ 08861 United States;X-APPLE-RADIUS=500;X-TITLE=300 Front St:geo:-74.2619773,40.5069085
END:VEVENT
BEGIN:VEVENT
DTSTART;TZID=America/New_York:20170909T150000
DTEND;TZID=America/New_York:20170909T170000
DTSTAMP:20260422T053857
CREATED:20170820T171929Z
LAST-MODIFIED:20170905T222513Z
UID:10000572-1504969200-1504976400@perthamboynow.com
SUMMARY:Live at the Ferry Slip Music Series Sept 9
DESCRIPTION:Check out Proper and Joseph Fram at the Perth Amboy Ferry Slip.  Proper is an indie­ singer­-songwriter who plays a latin folk music style called Trova. His songs showcase distinct elements of Afro beat\, rock\, salsa and orchestral arrangement. Joseph Frame plays Brazilian Jazz. He performs pieces which meld the influences of his various musical interests: Brazilian\, Classical\, Gypsy-Jazz\, and the Great American Songbook. \nThe show is free and all ages. Enjoy great live music\, beautiful views of Raritan Bay and the full moon. Also check out the Ferry Slip Museum and the food truck\, ice cream parlor & bars and restaurants along the Marina. \nLive at the Ferry Slip Original Music Series is hosted by Perth Amboy Artworks in partnership with the Historic City of Perth Amboy Ferry Slip Museum and The City of Perth Amboy Honorable Mayor Wilda Diaz. The program is made possible with funding support from the Middlesex County Board of Chosen Freeholders\, Office of Culture and Heritage and the New Jersey State Council on the Arts.
URL:https://perthamboynow.com/event/live-ferry-slip-music-series-sept-9/
LOCATION:Perth Amboy Ferry Slip\, 300 Front St\, Perth Amboy\, NJ\, 08861\, United States
ATTACH;FMTTYPE=image/jpeg:https://perthamboynow.com/wp-content/uploads/2017/03/joseph_frame_web.jpg
GEO:40.5069085;-74.2619773
X-APPLE-STRUCTURED-LOCATION;VALUE=URI;X-ADDRESS=Perth Amboy Ferry Slip 300 Front St Perth Amboy NJ 08861 United States;X-APPLE-RADIUS=500;X-TITLE=300 Front St:geo:-74.2619773,40.5069085
END:VEVENT
BEGIN:VEVENT
DTSTART;TZID=America/New_York:20170805T150000
DTEND;TZID=America/New_York:20170805T170000
DTSTAMP:20260422T053857
CREATED:20170302T013609Z
LAST-MODIFIED:20170609T211841Z
UID:10000256-1501945200-1501952400@perthamboynow.com
SUMMARY:San Simón & GMJ Groove Live at the Ferry Slip
DESCRIPTION:Live at the Ferry Slip Music Series continues on July 8th featuring 2 great bands  GMJ Groove & San Simón  from 7-9 pm . Enjoy the free performance at the Perth Amboy Ferry Slip.  The event is presented by Perth Amboy Artworks.
URL:https://perthamboynow.com/event/live-ferry-slip-music-series-3/
LOCATION:Perth Amboy Ferry Slip\, 300 Front St\, Perth Amboy\, NJ\, 08861\, United States
ATTACH;FMTTYPE=image/gif:https://perthamboynow.com/wp-content/uploads/2017/03/FerrySlip_Poster-NEW.gif
GEO:40.5069085;-74.2619773
X-APPLE-STRUCTURED-LOCATION;VALUE=URI;X-ADDRESS=Perth Amboy Ferry Slip 300 Front St Perth Amboy NJ 08861 United States;X-APPLE-RADIUS=500;X-TITLE=300 Front St:geo:-74.2619773,40.5069085
END:VEVENT
BEGIN:VEVENT
DTSTART;TZID=America/New_York:20170708T150000
DTEND;TZID=America/New_York:20170708T170000
DTSTAMP:20260422T053857
CREATED:20170302T013519Z
LAST-MODIFIED:20170609T211743Z
UID:10000255-1499526000-1499533200@perthamboynow.com
SUMMARY:Destitute NJ & I4 Live at the Ferry Slip
DESCRIPTION:Live at the Ferry Slip Music Series continues on July 8th featuring 2 great bands  Destitute NJ & I4  from 7-9 pm. Enjoy the free performance at the Perth Amboy Ferry Slip.  The event is presented by Perth Amboy Artworks.
URL:https://perthamboynow.com/event/live-ferry-slip-music-series-2/
LOCATION:Perth Amboy Ferry Slip\, 300 Front St\, Perth Amboy\, NJ\, 08861\, United States
ATTACH;FMTTYPE=image/gif:https://perthamboynow.com/wp-content/uploads/2017/03/FerrySlip_Poster-NEW.gif
GEO:40.5069085;-74.2619773
X-APPLE-STRUCTURED-LOCATION;VALUE=URI;X-ADDRESS=Perth Amboy Ferry Slip 300 Front St Perth Amboy NJ 08861 United States;X-APPLE-RADIUS=500;X-TITLE=300 Front St:geo:-74.2619773,40.5069085
END:VEVENT
BEGIN:VEVENT
DTSTART;TZID=America/New_York:20170406T150000
DTEND;TZID=America/New_York:20170406T180000
DTSTAMP:20260422T053857
CREATED:20170302T051259Z
LAST-MODIFIED:20170320T181033Z
UID:10000258-1491490800-1491501600@perthamboynow.com
SUMMARY:Perth Amboy Artworks Paint and Sip
DESCRIPTION:Enjoy an evening getting creative painting nautical sunset scenes. A $35 donation includes soda\, delicious appetizers and desserts\, a canvas\, paint supplies & art instruction. BYO your favorite drink to sip. Artist Rachel Wintemberg will teach you the skills to create the featured paintings or do your own thing. Must be 21 or over to attend. Seating is limited. Click here to reserve your spot and purchase your ticket. \nAll proceeds benefit Perth Amboy Artworks projects including a mural downtown\, live music at the Ferry Slip and a seasonal art bazaar. Perth Amboy Artworks is dedicated to revitalizing Perth Amboy through the Arts! \nAbout the Artist Rachel Wintemberg\nRachel has taught art in the Perth Amboy School District for 28 years. She is 2017 Shull School’s Teacher of the Year. Rachel holds a BFA from Pratt Institute and an MA in studio art from Montclair State University. She has taught art and exhibited extensively throughout the New York Metropolitan area and has also published many articles on the subject of art education. To view her portfolio please visit http://thehelpfulartteacher.blogspot.com/p/the-art-of-rachel-wintembe.html
URL:https://perthamboynow.com/event/paint-and-sip/
LOCATION:289 High St\, 289 High St\, Perth Amboy\, NJ\, 08861
ATTACH;FMTTYPE=image/jpeg:https://perthamboynow.com/wp-content/uploads/2017/03/Nautical-Paint-and-Sip.jpg
END:VEVENT
END:VCALENDAR