BEGIN:VCALENDAR
VERSION:2.0
PRODID:-//Perth Amboy Now - ECPv6.15.20//NONSGML v1.0//EN
CALSCALE:GREGORIAN
METHOD:PUBLISH
X-WR-CALNAME:Perth Amboy Now
X-ORIGINAL-URL:https://perthamboynow.com
X-WR-CALDESC:Events for Perth Amboy Now
REFRESH-INTERVAL;VALUE=DURATION:PT1H
X-Robots-Tag:noindex
X-PUBLISHED-TTL:PT1H
BEGIN:VTIMEZONE
TZID:America/New_York
BEGIN:DAYLIGHT
TZOFFSETFROM:-0500
TZOFFSETTO:-0400
TZNAME:EDT
DTSTART:20180311T070000
END:DAYLIGHT
BEGIN:STANDARD
TZOFFSETFROM:-0400
TZOFFSETTO:-0500
TZNAME:EST
DTSTART:20181104T060000
END:STANDARD
BEGIN:DAYLIGHT
TZOFFSETFROM:-0500
TZOFFSETTO:-0400
TZNAME:EDT
DTSTART:20190310T070000
END:DAYLIGHT
BEGIN:STANDARD
TZOFFSETFROM:-0400
TZOFFSETTO:-0500
TZNAME:EST
DTSTART:20191103T060000
END:STANDARD
BEGIN:DAYLIGHT
TZOFFSETFROM:-0500
TZOFFSETTO:-0400
TZNAME:EDT
DTSTART:20200308T070000
END:DAYLIGHT
BEGIN:STANDARD
TZOFFSETFROM:-0400
TZOFFSETTO:-0500
TZNAME:EST
DTSTART:20201101T060000
END:STANDARD
BEGIN:DAYLIGHT
TZOFFSETFROM:-0500
TZOFFSETTO:-0400
TZNAME:EDT
DTSTART:20210314T070000
END:DAYLIGHT
BEGIN:STANDARD
TZOFFSETFROM:-0400
TZOFFSETTO:-0500
TZNAME:EST
DTSTART:20211107T060000
END:STANDARD
BEGIN:DAYLIGHT
TZOFFSETFROM:-0500
TZOFFSETTO:-0400
TZNAME:EDT
DTSTART:20220313T070000
END:DAYLIGHT
BEGIN:STANDARD
TZOFFSETFROM:-0400
TZOFFSETTO:-0500
TZNAME:EST
DTSTART:20221106T060000
END:STANDARD
BEGIN:DAYLIGHT
TZOFFSETFROM:-0500
TZOFFSETTO:-0400
TZNAME:EDT
DTSTART:20230312T070000
END:DAYLIGHT
BEGIN:STANDARD
TZOFFSETFROM:-0400
TZOFFSETTO:-0500
TZNAME:EST
DTSTART:20231105T060000
END:STANDARD
BEGIN:DAYLIGHT
TZOFFSETFROM:-0500
TZOFFSETTO:-0400
TZNAME:EDT
DTSTART:20240310T070000
END:DAYLIGHT
BEGIN:STANDARD
TZOFFSETFROM:-0400
TZOFFSETTO:-0500
TZNAME:EST
DTSTART:20241103T060000
END:STANDARD
BEGIN:DAYLIGHT
TZOFFSETFROM:-0500
TZOFFSETTO:-0400
TZNAME:EDT
DTSTART:20250309T070000
END:DAYLIGHT
BEGIN:STANDARD
TZOFFSETFROM:-0400
TZOFFSETTO:-0500
TZNAME:EST
DTSTART:20251102T060000
END:STANDARD
BEGIN:DAYLIGHT
TZOFFSETFROM:-0500
TZOFFSETTO:-0400
TZNAME:EDT
DTSTART:20260308T070000
END:DAYLIGHT
BEGIN:STANDARD
TZOFFSETFROM:-0400
TZOFFSETTO:-0500
TZNAME:EST
DTSTART:20261101T060000
END:STANDARD
END:VTIMEZONE
BEGIN:VEVENT
DTSTART;VALUE=DATE:20250606
DTEND;VALUE=DATE:20250610
DTSTAMP:20260421T044457
CREATED:20250530T125501Z
LAST-MODIFIED:20250530T125501Z
UID:10003414-1749175200-1749434399@perthamboynow.com
SUMMARY:In The Heights
DESCRIPTION:Get tickets here
URL:https://perthamboynow.com/event/in-the-heights/
LOCATION:Raritan Bay YMCA\, 357 New Brunswick Ave\, NJ\, 08861\, United States
ATTACH;FMTTYPE=image/jpeg:https://perthamboynow.com/wp-content/uploads/2025/05/495099424_988957736745729_7921682260135618998_n.jpg
END:VEVENT
BEGIN:VEVENT
DTSTART;TZID=America/New_York:20240609T130000
DTEND;TZID=America/New_York:20240609T153000
DTSTAMP:20260421T044457
CREATED:20240507T184554Z
LAST-MODIFIED:20240507T184554Z
UID:10002603-1717938000-1717947000@perthamboynow.com
SUMMARY:Disney High School Musical
DESCRIPTION:https://embed.prod.simpletix.com/b6335c06-db21-48c4-8c95-e530476f864a/168346
URL:https://perthamboynow.com/event/disney-high-school-musical/2024-06-09/
LOCATION:Raritan Bay YMCA\, 357 New Brunswick Ave\, NJ\, 08861\, United States
ATTACH;FMTTYPE=image/png:https://perthamboynow.com/wp-content/uploads/2024/05/Screen-Shot-2024-05-07-at-2.39.19-PM-1.png
END:VEVENT
BEGIN:VEVENT
DTSTART;TZID=America/New_York:20240608T190000
DTEND;TZID=America/New_York:20240608T213000
DTSTAMP:20260421T044457
CREATED:20240507T184554Z
LAST-MODIFIED:20240507T184554Z
UID:10002602-1717873200-1717882200@perthamboynow.com
SUMMARY:Disney High School Musical
DESCRIPTION:https://embed.prod.simpletix.com/b6335c06-db21-48c4-8c95-e530476f864a/168346
URL:https://perthamboynow.com/event/disney-high-school-musical/2024-06-08/2/
LOCATION:Raritan Bay YMCA\, 357 New Brunswick Ave\, NJ\, 08861\, United States
ATTACH;FMTTYPE=image/png:https://perthamboynow.com/wp-content/uploads/2024/05/Screen-Shot-2024-05-07-at-2.39.19-PM-1.png
END:VEVENT
BEGIN:VEVENT
DTSTART;TZID=America/New_York:20240608T130000
DTEND;TZID=America/New_York:20240608T153000
DTSTAMP:20260421T044457
CREATED:20240507T184554Z
LAST-MODIFIED:20240507T184554Z
UID:10002601-1717851600-1717860600@perthamboynow.com
SUMMARY:Disney High School Musical
DESCRIPTION:https://embed.prod.simpletix.com/b6335c06-db21-48c4-8c95-e530476f864a/168346
URL:https://perthamboynow.com/event/disney-high-school-musical/2024-06-08/1/
LOCATION:Raritan Bay YMCA\, 357 New Brunswick Ave\, NJ\, 08861\, United States
ATTACH;FMTTYPE=image/png:https://perthamboynow.com/wp-content/uploads/2024/05/Screen-Shot-2024-05-07-at-2.39.19-PM-1.png
END:VEVENT
BEGIN:VEVENT
DTSTART;TZID=America/New_York:20240607T190000
DTEND;TZID=America/New_York:20240607T213000
DTSTAMP:20260421T044457
CREATED:20240507T184554Z
LAST-MODIFIED:20240507T184554Z
UID:10002600-1717786800-1717795800@perthamboynow.com
SUMMARY:Disney High School Musical
DESCRIPTION:https://embed.prod.simpletix.com/b6335c06-db21-48c4-8c95-e530476f864a/168346
URL:https://perthamboynow.com/event/disney-high-school-musical/2024-06-07/
LOCATION:Raritan Bay YMCA\, 357 New Brunswick Ave\, NJ\, 08861\, United States
ATTACH;FMTTYPE=image/png:https://perthamboynow.com/wp-content/uploads/2024/05/Screen-Shot-2024-05-07-at-2.39.19-PM-1.png
END:VEVENT
BEGIN:VEVENT
DTSTART;TZID=America/New_York:20230923T170000
DTEND;TZID=America/New_York:20230923T190000
DTSTAMP:20260421T044457
CREATED:20230827T160646Z
LAST-MODIFIED:20230827T160646Z
UID:10002115-1695488400-1695495600@perthamboynow.com
SUMMARY:The Voice and The Voice Jr Showcase
DESCRIPTION:
URL:https://perthamboynow.com/event/the-voice-and-the-voice-jr-showcase/
LOCATION:Bayview Park\, Perth Amboy\, NJ\, 08861\, United States
ATTACH;FMTTYPE=image/jpeg:https://perthamboynow.com/wp-content/uploads/2023/08/370551496_18014918731747453_4201325130703950148_n.jpeg
END:VEVENT
BEGIN:VEVENT
DTSTART;TZID=America/New_York:20230513T190000
DTEND;TZID=America/New_York:20230513T220000
DTSTAMP:20260421T044457
CREATED:20230406T001635Z
LAST-MODIFIED:20230406T001635Z
UID:10002044-1684004400-1684015200@perthamboynow.com
SUMMARY:Beauty and the Beast Musical
DESCRIPTION:
URL:https://perthamboynow.com/event/beauty-and-the-beast-musical/2023-05-13/2/
LOCATION:Raritan Bay YMCA\, 357 New Brunswick Ave\, NJ\, 08861\, United States
ATTACH;FMTTYPE=image/jpeg:https://perthamboynow.com/wp-content/uploads/2023/04/339151489_1663780300726381_8465823348528471533_n.jpeg
END:VEVENT
BEGIN:VEVENT
DTSTART;TZID=America/New_York:20230513T130000
DTEND;TZID=America/New_York:20230513T160000
DTSTAMP:20260421T044457
CREATED:20230406T001635Z
LAST-MODIFIED:20230406T001635Z
UID:10002043-1683982800-1683993600@perthamboynow.com
SUMMARY:Beauty and the Beast Musical
DESCRIPTION:
URL:https://perthamboynow.com/event/beauty-and-the-beast-musical/2023-05-13/1/
LOCATION:Raritan Bay YMCA\, 357 New Brunswick Ave\, NJ\, 08861\, United States
ATTACH;FMTTYPE=image/jpeg:https://perthamboynow.com/wp-content/uploads/2023/04/339151489_1663780300726381_8465823348528471533_n.jpeg
END:VEVENT
BEGIN:VEVENT
DTSTART;TZID=America/New_York:20230512T190000
DTEND;TZID=America/New_York:20230512T220000
DTSTAMP:20260421T044457
CREATED:20230406T001635Z
LAST-MODIFIED:20230406T001635Z
UID:10002042-1683918000-1683928800@perthamboynow.com
SUMMARY:Beauty and the Beast Musical
DESCRIPTION:
URL:https://perthamboynow.com/event/beauty-and-the-beast-musical/2023-05-12/
LOCATION:Raritan Bay YMCA\, 357 New Brunswick Ave\, NJ\, 08861\, United States
ATTACH;FMTTYPE=image/jpeg:https://perthamboynow.com/wp-content/uploads/2023/04/339151489_1663780300726381_8465823348528471533_n.jpeg
END:VEVENT
BEGIN:VEVENT
DTSTART;TZID=America/New_York:20220729T180000
DTEND;TZID=America/New_York:20220729T200000
DTSTAMP:20260421T044457
CREATED:20220714T161523Z
LAST-MODIFIED:20220714T161523Z
UID:10001862-1659117600-1659124800@perthamboynow.com
SUMMARY:The Voice and Godspell
DESCRIPTION:
URL:https://perthamboynow.com/event/the-voice-and-godspell/
LOCATION:Warren Park\, Florida Grove Road\, Woodbridge
ATTACH;FMTTYPE=image/jpeg:https://perthamboynow.com/wp-content/uploads/2022/07/IMG_6219.jpg
GEO:40.5205428;-74.2903143
X-APPLE-STRUCTURED-LOCATION;VALUE=URI;X-ADDRESS=Warren Park Florida Grove Road Woodbridge;X-APPLE-RADIUS=500;X-TITLE=Florida Grove Road:geo:-74.2903143,40.5205428
END:VEVENT
BEGIN:VEVENT
DTSTART;TZID=America/New_York:20190505T100000
DTEND;TZID=America/New_York:20190505T130000
DTSTAMP:20260421T044457
CREATED:20190315T175827Z
LAST-MODIFIED:20190504T181907Z
UID:10001077-1557050400-1557061200@perthamboynow.com
SUMMARY:Hairspray the Musical
DESCRIPTION:City of Perth Amboy Community Theatre proudly presents Hairspray\, The Broadway Musical at the YMCA  Theatre.  $15 adults\, $10 kids under 10
URL:https://perthamboynow.com/event/hairspray-the-musical/2019-05-05/
LOCATION:Raritan Bay YMCA\, 357 New Brunswick Ave\, NJ\, 08861\, United States
ATTACH;FMTTYPE=image/jpeg:https://perthamboynow.com/wp-content/uploads/2019/03/IMG_3934.jpg
END:VEVENT
BEGIN:VEVENT
DTSTART;TZID=America/New_York:20190504T150000
DTEND;TZID=America/New_York:20190504T180000
DTSTAMP:20260421T044457
CREATED:20190315T175827Z
LAST-MODIFIED:20190504T181907Z
UID:10001076-1556982000-1556992800@perthamboynow.com
SUMMARY:Hairspray the Musical
DESCRIPTION:City of Perth Amboy Community Theatre proudly presents Hairspray\, The Broadway Musical at the YMCA  Theatre.  $15 adults\, $10 kids under 10
URL:https://perthamboynow.com/event/hairspray-the-musical/2019-05-04/
LOCATION:Raritan Bay YMCA\, 357 New Brunswick Ave\, NJ\, 08861\, United States
ATTACH;FMTTYPE=image/jpeg:https://perthamboynow.com/wp-content/uploads/2019/03/IMG_3934.jpg
END:VEVENT
BEGIN:VEVENT
DTSTART;TZID=America/New_York:20190503T150000
DTEND;TZID=America/New_York:20190503T180000
DTSTAMP:20260421T044457
CREATED:20190315T175827Z
LAST-MODIFIED:20190504T181907Z
UID:10001075-1556895600-1556906400@perthamboynow.com
SUMMARY:Hairspray the Musical
DESCRIPTION:City of Perth Amboy Community Theatre proudly presents Hairspray\, The Broadway Musical at the YMCA  Theatre.  $15 adults\, $10 kids under 10
URL:https://perthamboynow.com/event/hairspray-the-musical/2019-05-03/
LOCATION:Raritan Bay YMCA\, 357 New Brunswick Ave\, NJ\, 08861\, United States
ATTACH;FMTTYPE=image/jpeg:https://perthamboynow.com/wp-content/uploads/2019/03/IMG_3934.jpg
END:VEVENT
END:VCALENDAR