BEGIN:VCALENDAR
VERSION:2.0
PRODID:-//Perth Amboy Now - ECPv6.15.20//NONSGML v1.0//EN
CALSCALE:GREGORIAN
METHOD:PUBLISH
X-ORIGINAL-URL:https://perthamboynow.com
X-WR-CALDESC:Events for Perth Amboy Now
REFRESH-INTERVAL;VALUE=DURATION:PT1H
X-Robots-Tag:noindex
X-PUBLISHED-TTL:PT1H
BEGIN:VTIMEZONE
TZID:America/New_York
BEGIN:DAYLIGHT
TZOFFSETFROM:-0500
TZOFFSETTO:-0400
TZNAME:EDT
DTSTART:20160313T070000
END:DAYLIGHT
BEGIN:STANDARD
TZOFFSETFROM:-0400
TZOFFSETTO:-0500
TZNAME:EST
DTSTART:20161106T060000
END:STANDARD
BEGIN:DAYLIGHT
TZOFFSETFROM:-0500
TZOFFSETTO:-0400
TZNAME:EDT
DTSTART:20170312T070000
END:DAYLIGHT
BEGIN:STANDARD
TZOFFSETFROM:-0400
TZOFFSETTO:-0500
TZNAME:EST
DTSTART:20171105T060000
END:STANDARD
BEGIN:DAYLIGHT
TZOFFSETFROM:-0500
TZOFFSETTO:-0400
TZNAME:EDT
DTSTART:20180311T070000
END:DAYLIGHT
BEGIN:STANDARD
TZOFFSETFROM:-0400
TZOFFSETTO:-0500
TZNAME:EST
DTSTART:20181104T060000
END:STANDARD
END:VTIMEZONE
BEGIN:VEVENT
DTSTART;TZID=America/New_York:20170407T160000
DTEND;TZID=America/New_York:20170407T190000
DTSTAMP:20260421T054024
CREATED:20170301T185902Z
LAST-MODIFIED:20170315T172709Z
UID:10000252-1491580800-1491591600@perthamboynow.com
SUMMARY:Creative Kickback
DESCRIPTION:First Friday of the month enjoy art\, poetry\, music\, inspiring talks\, creative performances & a pop up shop. $10 to get in. BYOB. Hosted by Collective Lot.
URL:https://perthamboynow.com/event/creative-kickback-3/
LOCATION:289 High St\, 289 High St\, Perth Amboy\, NJ\, 08861
ATTACH;FMTTYPE=image/jpeg:https://perthamboynow.com/wp-content/uploads/2017/03/17218411_1275402289222648_6412890253037764376_o.jpg
END:VEVENT
BEGIN:VEVENT
DTSTART;TZID=America/New_York:20170406T150000
DTEND;TZID=America/New_York:20170406T180000
DTSTAMP:20260421T054024
CREATED:20170302T051259Z
LAST-MODIFIED:20170320T181033Z
UID:10000258-1491490800-1491501600@perthamboynow.com
SUMMARY:Perth Amboy Artworks Paint and Sip
DESCRIPTION:Enjoy an evening getting creative painting nautical sunset scenes. A $35 donation includes soda\, delicious appetizers and desserts\, a canvas\, paint supplies & art instruction. BYO your favorite drink to sip. Artist Rachel Wintemberg will teach you the skills to create the featured paintings or do your own thing. Must be 21 or over to attend. Seating is limited. Click here to reserve your spot and purchase your ticket. \nAll proceeds benefit Perth Amboy Artworks projects including a mural downtown\, live music at the Ferry Slip and a seasonal art bazaar. Perth Amboy Artworks is dedicated to revitalizing Perth Amboy through the Arts! \nAbout the Artist Rachel Wintemberg\nRachel has taught art in the Perth Amboy School District for 28 years. She is 2017 Shull School’s Teacher of the Year. Rachel holds a BFA from Pratt Institute and an MA in studio art from Montclair State University. She has taught art and exhibited extensively throughout the New York Metropolitan area and has also published many articles on the subject of art education. To view her portfolio please visit http://thehelpfulartteacher.blogspot.com/p/the-art-of-rachel-wintembe.html
URL:https://perthamboynow.com/event/paint-and-sip/
LOCATION:289 High St\, 289 High St\, Perth Amboy\, NJ\, 08861
ATTACH;FMTTYPE=image/jpeg:https://perthamboynow.com/wp-content/uploads/2017/03/Nautical-Paint-and-Sip.jpg
END:VEVENT
BEGIN:VEVENT
DTSTART;TZID=America/New_York:20170303T150000
DTEND;TZID=America/New_York:20170303T150000
DTSTAMP:20260421T054024
CREATED:20170213T050223Z
LAST-MODIFIED:20170213T050223Z
UID:10000162-1488553200-1488553200@perthamboynow.com
SUMMARY:Creative Kickback
DESCRIPTION:Art\, poetry\, music\, inspiring talks\, creative performances & a pop up shop. $10 to get in. BYOB. Hosted by Collective Lot. Details
URL:https://perthamboynow.com/event/creative-kickback-2/
LOCATION:289 High St\, 289 High St\, Perth Amboy\, NJ\, 08861
END:VEVENT
END:VCALENDAR