BEGIN:VCALENDAR
VERSION:2.0
PRODID:-//Perth Amboy Now - ECPv6.15.20//NONSGML v1.0//EN
CALSCALE:GREGORIAN
METHOD:PUBLISH
X-ORIGINAL-URL:https://perthamboynow.com
X-WR-CALDESC:Events for Perth Amboy Now
REFRESH-INTERVAL;VALUE=DURATION:PT1H
X-Robots-Tag:noindex
X-PUBLISHED-TTL:PT1H
BEGIN:VTIMEZONE
TZID:America/New_York
BEGIN:DAYLIGHT
TZOFFSETFROM:-0500
TZOFFSETTO:-0400
TZNAME:EDT
DTSTART:20180311T070000
END:DAYLIGHT
BEGIN:STANDARD
TZOFFSETFROM:-0400
TZOFFSETTO:-0500
TZNAME:EST
DTSTART:20181104T060000
END:STANDARD
BEGIN:DAYLIGHT
TZOFFSETFROM:-0500
TZOFFSETTO:-0400
TZNAME:EDT
DTSTART:20190310T070000
END:DAYLIGHT
BEGIN:STANDARD
TZOFFSETFROM:-0400
TZOFFSETTO:-0500
TZNAME:EST
DTSTART:20191103T060000
END:STANDARD
BEGIN:DAYLIGHT
TZOFFSETFROM:-0500
TZOFFSETTO:-0400
TZNAME:EDT
DTSTART:20200308T070000
END:DAYLIGHT
BEGIN:STANDARD
TZOFFSETFROM:-0400
TZOFFSETTO:-0500
TZNAME:EST
DTSTART:20201101T060000
END:STANDARD
END:VTIMEZONE
BEGIN:VEVENT
DTSTART;TZID=America/New_York:20190809T170000
DTEND;TZID=America/New_York:20190809T193000
DTSTAMP:20260421T044534
CREATED:20190514T192506Z
LAST-MODIFIED:20190514T192506Z
UID:10001158-1565370000-1565379000@perthamboynow.com
SUMMARY:Friday Night Latin Party at Terrazza
DESCRIPTION:Dj and drink specials. Come party after dinner.
URL:https://perthamboynow.com/event/friday-night-latin-party-terrazza/2019-08-09/
LOCATION:La Terrazza Restaurant\, 273 High St\, Perth Amboy\, NJ\, 08861
END:VEVENT
BEGIN:VEVENT
DTSTART;TZID=America/New_York:20190808T140000
DTEND;TZID=America/New_York:20190808T190000
DTSTAMP:20260421T044534
CREATED:20190718T225900Z
LAST-MODIFIED:20190718T225900Z
UID:10001231-1565272800-1565290800@perthamboynow.com
SUMMARY:Ladies Night at Terrazza
DESCRIPTION:Drink specials all night long!
URL:https://perthamboynow.com/event/ladies-night-terrazza-2/2019-08-08/
LOCATION:La Terrazza Restaurant\, 273 High St\, Perth Amboy\, NJ\, 08861
ATTACH;FMTTYPE=image/jpeg:https://perthamboynow.com/wp-content/uploads/2019/07/67220722_2613081388704493_5420447477163622400_o.jpg
END:VEVENT
BEGIN:VEVENT
DTSTART;TZID=America/New_York:20190802T170000
DTEND;TZID=America/New_York:20190802T193000
DTSTAMP:20260421T044534
CREATED:20190514T192506Z
LAST-MODIFIED:20190514T192506Z
UID:10001157-1564765200-1564774200@perthamboynow.com
SUMMARY:Friday Night Latin Party at Terrazza
DESCRIPTION:Dj and drink specials. Come party after dinner.
URL:https://perthamboynow.com/event/friday-night-latin-party-terrazza/2019-08-02/
LOCATION:La Terrazza Restaurant\, 273 High St\, Perth Amboy\, NJ\, 08861
END:VEVENT
BEGIN:VEVENT
DTSTART;TZID=America/New_York:20190801T140000
DTEND;TZID=America/New_York:20190801T190000
DTSTAMP:20260421T044534
CREATED:20190718T225900Z
LAST-MODIFIED:20190718T225900Z
UID:10001230-1564668000-1564686000@perthamboynow.com
SUMMARY:Ladies Night at Terrazza
DESCRIPTION:Drink specials all night long!
URL:https://perthamboynow.com/event/ladies-night-terrazza-2/2019-08-01/
LOCATION:La Terrazza Restaurant\, 273 High St\, Perth Amboy\, NJ\, 08861
ATTACH;FMTTYPE=image/jpeg:https://perthamboynow.com/wp-content/uploads/2019/07/67220722_2613081388704493_5420447477163622400_o.jpg
END:VEVENT
BEGIN:VEVENT
DTSTART;TZID=America/New_York:20190726T170000
DTEND;TZID=America/New_York:20190726T193000
DTSTAMP:20260421T044534
CREATED:20190514T192506Z
LAST-MODIFIED:20190514T192506Z
UID:10001156-1564160400-1564169400@perthamboynow.com
SUMMARY:Friday Night Latin Party at Terrazza
DESCRIPTION:Dj and drink specials. Come party after dinner.
URL:https://perthamboynow.com/event/friday-night-latin-party-terrazza/2019-07-26/
LOCATION:La Terrazza Restaurant\, 273 High St\, Perth Amboy\, NJ\, 08861
END:VEVENT
BEGIN:VEVENT
DTSTART;TZID=America/New_York:20190725T140000
DTEND;TZID=America/New_York:20190725T190000
DTSTAMP:20260421T044534
CREATED:20190718T225900Z
LAST-MODIFIED:20190718T225900Z
UID:10001229-1564063200-1564081200@perthamboynow.com
SUMMARY:Ladies Night at Terrazza
DESCRIPTION:Drink specials all night long!
URL:https://perthamboynow.com/event/ladies-night-terrazza-2/2019-07-25/
LOCATION:La Terrazza Restaurant\, 273 High St\, Perth Amboy\, NJ\, 08861
ATTACH;FMTTYPE=image/jpeg:https://perthamboynow.com/wp-content/uploads/2019/07/67220722_2613081388704493_5420447477163622400_o.jpg
END:VEVENT
BEGIN:VEVENT
DTSTART;TZID=America/New_York:20190719T170000
DTEND;TZID=America/New_York:20190719T193000
DTSTAMP:20260421T044534
CREATED:20190514T192506Z
LAST-MODIFIED:20190514T192506Z
UID:10001155-1563555600-1563564600@perthamboynow.com
SUMMARY:Friday Night Latin Party at Terrazza
DESCRIPTION:Dj and drink specials. Come party after dinner.
URL:https://perthamboynow.com/event/friday-night-latin-party-terrazza/2019-07-19/
LOCATION:La Terrazza Restaurant\, 273 High St\, Perth Amboy\, NJ\, 08861
END:VEVENT
BEGIN:VEVENT
DTSTART;TZID=America/New_York:20190718T140000
DTEND;TZID=America/New_York:20190718T190000
DTSTAMP:20260421T044534
CREATED:20190718T225900Z
LAST-MODIFIED:20190718T225900Z
UID:10001228-1563458400-1563476400@perthamboynow.com
SUMMARY:Ladies Night at Terrazza
DESCRIPTION:Drink specials all night long!
URL:https://perthamboynow.com/event/ladies-night-terrazza-2/2019-07-18/
LOCATION:La Terrazza Restaurant\, 273 High St\, Perth Amboy\, NJ\, 08861
ATTACH;FMTTYPE=image/jpeg:https://perthamboynow.com/wp-content/uploads/2019/07/67220722_2613081388704493_5420447477163622400_o.jpg
END:VEVENT
BEGIN:VEVENT
DTSTART;TZID=America/New_York:20190712T170000
DTEND;TZID=America/New_York:20190712T193000
DTSTAMP:20260421T044534
CREATED:20190514T192506Z
LAST-MODIFIED:20190514T192506Z
UID:10001154-1562950800-1562959800@perthamboynow.com
SUMMARY:Friday Night Latin Party at Terrazza
DESCRIPTION:Dj and drink specials. Come party after dinner.
URL:https://perthamboynow.com/event/friday-night-latin-party-terrazza/2019-07-12/
LOCATION:La Terrazza Restaurant\, 273 High St\, Perth Amboy\, NJ\, 08861
END:VEVENT
BEGIN:VEVENT
DTSTART;TZID=America/New_York:20190705T170000
DTEND;TZID=America/New_York:20190705T193000
DTSTAMP:20260421T044534
CREATED:20190514T192506Z
LAST-MODIFIED:20190514T192506Z
UID:10001153-1562346000-1562355000@perthamboynow.com
SUMMARY:Friday Night Latin Party at Terrazza
DESCRIPTION:Dj and drink specials. Come party after dinner.
URL:https://perthamboynow.com/event/friday-night-latin-party-terrazza/2019-07-05/
LOCATION:La Terrazza Restaurant\, 273 High St\, Perth Amboy\, NJ\, 08861
END:VEVENT
BEGIN:VEVENT
DTSTART;TZID=America/New_York:20190628T170000
DTEND;TZID=America/New_York:20190628T193000
DTSTAMP:20260421T044534
CREATED:20190514T192506Z
LAST-MODIFIED:20190514T192506Z
UID:10001152-1561741200-1561750200@perthamboynow.com
SUMMARY:Friday Night Latin Party at Terrazza
DESCRIPTION:Dj and drink specials. Come party after dinner.
URL:https://perthamboynow.com/event/friday-night-latin-party-terrazza/2019-06-28/
LOCATION:La Terrazza Restaurant\, 273 High St\, Perth Amboy\, NJ\, 08861
END:VEVENT
BEGIN:VEVENT
DTSTART;TZID=America/New_York:20190621T170000
DTEND;TZID=America/New_York:20190621T193000
DTSTAMP:20260421T044534
CREATED:20190514T192506Z
LAST-MODIFIED:20190514T192506Z
UID:10001151-1561136400-1561145400@perthamboynow.com
SUMMARY:Friday Night Latin Party at Terrazza
DESCRIPTION:Dj and drink specials. Come party after dinner.
URL:https://perthamboynow.com/event/friday-night-latin-party-terrazza/2019-06-21/
LOCATION:La Terrazza Restaurant\, 273 High St\, Perth Amboy\, NJ\, 08861
END:VEVENT
BEGIN:VEVENT
DTSTART;TZID=America/New_York:20190620T150000
DTEND;TZID=America/New_York:20190620T170000
DTSTAMP:20260421T044534
CREATED:20190611T024453Z
LAST-MODIFIED:20190612T154333Z
UID:10001199-1561042800-1561050000@perthamboynow.com
SUMMARY:Paint & Sip Ladies Night at Terrazza
DESCRIPTION:Perfect for Ladies Night. $24.95 per person includes tapas\, canvas and wine tasting. Reserve by calling 732-442-8100
URL:https://perthamboynow.com/event/paint-sip-ladies-night-terrazza/
LOCATION:La Terrazza Restaurant\, 273 High St\, Perth Amboy\, NJ\, 08861
ATTACH;FMTTYPE=image/png:https://perthamboynow.com/wp-content/uploads/2019/06/Screen-Shot-2019-06-12-at-7.42.34-AM.png
END:VEVENT
BEGIN:VEVENT
DTSTART;TZID=America/New_York:20190614T170000
DTEND;TZID=America/New_York:20190614T193000
DTSTAMP:20260421T044534
CREATED:20190514T192506Z
LAST-MODIFIED:20190514T192506Z
UID:10001150-1560531600-1560540600@perthamboynow.com
SUMMARY:Friday Night Latin Party at Terrazza
DESCRIPTION:Dj and drink specials. Come party after dinner.
URL:https://perthamboynow.com/event/friday-night-latin-party-terrazza/2019-06-14/
LOCATION:La Terrazza Restaurant\, 273 High St\, Perth Amboy\, NJ\, 08861
END:VEVENT
BEGIN:VEVENT
DTSTART;TZID=America/New_York:20190613T140000
DTEND;TZID=America/New_York:20190613T160000
DTSTAMP:20260421T044534
CREATED:20190607T204639Z
LAST-MODIFIED:20190607T204639Z
UID:10001183-1560434400-1560441600@perthamboynow.com
SUMMARY:BID Summer Kickoff Networking Event at La Terrazza
DESCRIPTION:Enjoy an exciting evening of networking.
URL:https://perthamboynow.com/event/bid-summer-kickoff-networking-event-la-terrazza/
LOCATION:La Terrazza Restaurant\, 273 High St\, Perth Amboy\, NJ\, 08861
END:VEVENT
BEGIN:VEVENT
DTSTART;TZID=America/New_York:20190607T170000
DTEND;TZID=America/New_York:20190607T193000
DTSTAMP:20260421T044534
CREATED:20190514T192506Z
LAST-MODIFIED:20190514T192506Z
UID:10001149-1559926800-1559935800@perthamboynow.com
SUMMARY:Friday Night Latin Party at Terrazza
DESCRIPTION:Dj and drink specials. Come party after dinner.
URL:https://perthamboynow.com/event/friday-night-latin-party-terrazza/2019-06-07/
LOCATION:La Terrazza Restaurant\, 273 High St\, Perth Amboy\, NJ\, 08861
END:VEVENT
BEGIN:VEVENT
DTSTART;TZID=America/New_York:20190531T170000
DTEND;TZID=America/New_York:20190531T193000
DTSTAMP:20260421T044534
CREATED:20190514T192506Z
LAST-MODIFIED:20190514T192506Z
UID:10001148-1559322000-1559331000@perthamboynow.com
SUMMARY:Friday Night Latin Party at Terrazza
DESCRIPTION:Dj and drink specials. Come party after dinner.
URL:https://perthamboynow.com/event/friday-night-latin-party-terrazza/2019-05-31/
LOCATION:La Terrazza Restaurant\, 273 High St\, Perth Amboy\, NJ\, 08861
END:VEVENT
BEGIN:VEVENT
DTSTART;TZID=America/New_York:20190524T170000
DTEND;TZID=America/New_York:20190524T193000
DTSTAMP:20260421T044534
CREATED:20190514T192506Z
LAST-MODIFIED:20190514T192506Z
UID:10001147-1558717200-1558726200@perthamboynow.com
SUMMARY:Friday Night Latin Party at Terrazza
DESCRIPTION:Dj and drink specials. Come party after dinner.
URL:https://perthamboynow.com/event/friday-night-latin-party-terrazza/2019-05-24/
LOCATION:La Terrazza Restaurant\, 273 High St\, Perth Amboy\, NJ\, 08861
END:VEVENT
BEGIN:VEVENT
DTSTART;TZID=America/New_York:20190517T170000
DTEND;TZID=America/New_York:20190517T193000
DTSTAMP:20260421T044534
CREATED:20190514T192506Z
LAST-MODIFIED:20190514T192506Z
UID:10001146-1558112400-1558121400@perthamboynow.com
SUMMARY:Friday Night Latin Party at Terrazza
DESCRIPTION:Dj and drink specials. Come party after dinner.
URL:https://perthamboynow.com/event/friday-night-latin-party-terrazza/2019-05-17/
LOCATION:La Terrazza Restaurant\, 273 High St\, Perth Amboy\, NJ\, 08861
END:VEVENT
BEGIN:VEVENT
DTSTART;TZID=America/New_York:20190512T073000
DTEND;TZID=America/New_York:20190512T180000
DTSTAMP:20260421T044534
CREATED:20190509T010517Z
LAST-MODIFIED:20190509T012109Z
UID:10001137-1557646200-1557684000@perthamboynow.com
SUMMARY:Mother's Day Lunch & Dinner Special at La Terrazza
DESCRIPTION:Food & Drinks Specials. Special Mothers Day Prix Fixe Menu view at https://tinyurl.com/y4n883t6. $39.99 per person Reservations required. Seating is limited. 732-442-8100
URL:https://perthamboynow.com/event/mothers-day-lunch-dinner-special-la-terrazza/
LOCATION:La Terrazza Restaurant\, 273 High St\, Perth Amboy\, NJ\, 08861
ATTACH;FMTTYPE=image/jpeg:https://perthamboynow.com/wp-content/uploads/2019/05/59781874_2485692384776728_2044778232489705472_o.jpg
END:VEVENT
BEGIN:VEVENT
DTSTART;VALUE=DATE:20190504
DTEND;VALUE=DATE:20190506
DTSTAMP:20260421T044534
CREATED:20190430T171711Z
LAST-MODIFIED:20190430T171711Z
UID:10001132-1557007200-1557093599@perthamboynow.com
SUMMARY:Cinco de Mayo at La Terrazza
DESCRIPTION:Music by DJ Rojas & DJ Victor Alex. Drink and food specials!
URL:https://perthamboynow.com/event/cinco-de-mayo-la-terrazza/
LOCATION:La Terrazza Restaurant\, 273 High St\, Perth Amboy\, NJ\, 08861
ATTACH;FMTTYPE=image/jpeg:https://perthamboynow.com/wp-content/uploads/2019/04/IMG_4226.jpg
END:VEVENT
BEGIN:VEVENT
DTSTART;TZID=America/New_York:20190426T140000
DTEND;TZID=America/New_York:20190426T140000
DTSTAMP:20260421T044534
CREATED:20190203T203836Z
LAST-MODIFIED:20190314T205752Z
UID:10001037-1556287200-1556287200@perthamboynow.com
SUMMARY:Latin Fridays at Terrazza
DESCRIPTION:Delicious food and drinks in the lounge\, live DJ\, dancing. Unwind after work.
URL:https://perthamboynow.com/event/latin-fridays-terrazza/2019-04-26/
LOCATION:La Terrazza Restaurant\, 273 High St\, Perth Amboy\, NJ\, 08861
END:VEVENT
BEGIN:VEVENT
DTSTART;TZID=America/New_York:20190421T073000
DTEND;TZID=America/New_York:20190421T120000
DTSTAMP:20260421T044534
CREATED:20190406T195442Z
LAST-MODIFIED:20190406T195442Z
UID:10001105-1555831800-1555848000@perthamboynow.com
SUMMARY:Easter Brunch at La Terrazza
DESCRIPTION:Buffet and drink specials. Call for reservations 732-442-8100\nAdults 26.95/kids 12.95
URL:https://perthamboynow.com/event/easter-brunch-la-terrazza/
LOCATION:La Terrazza Restaurant\, 273 High St\, Perth Amboy\, NJ\, 08861
END:VEVENT
BEGIN:VEVENT
DTSTART;TZID=America/New_York:20190419T140000
DTEND;TZID=America/New_York:20190419T140000
DTSTAMP:20260421T044534
CREATED:20190203T203836Z
LAST-MODIFIED:20190314T205752Z
UID:10001036-1555682400-1555682400@perthamboynow.com
SUMMARY:Latin Fridays at Terrazza
DESCRIPTION:Delicious food and drinks in the lounge\, live DJ\, dancing. Unwind after work.
URL:https://perthamboynow.com/event/latin-fridays-terrazza/2019-04-19/
LOCATION:La Terrazza Restaurant\, 273 High St\, Perth Amboy\, NJ\, 08861
END:VEVENT
BEGIN:VEVENT
DTSTART;TZID=America/New_York:20190412T140000
DTEND;TZID=America/New_York:20190412T140000
DTSTAMP:20260421T044534
CREATED:20190203T203836Z
LAST-MODIFIED:20190314T205752Z
UID:10001035-1555077600-1555077600@perthamboynow.com
SUMMARY:Latin Fridays at Terrazza
DESCRIPTION:Delicious food and drinks in the lounge\, live DJ\, dancing. Unwind after work.
URL:https://perthamboynow.com/event/latin-fridays-terrazza/2019-04-12/
LOCATION:La Terrazza Restaurant\, 273 High St\, Perth Amboy\, NJ\, 08861
END:VEVENT
BEGIN:VEVENT
DTSTART;TZID=America/New_York:20190405T140000
DTEND;TZID=America/New_York:20190405T140000
DTSTAMP:20260421T044534
CREATED:20190203T203836Z
LAST-MODIFIED:20190314T205752Z
UID:10001034-1554472800-1554472800@perthamboynow.com
SUMMARY:Latin Fridays at Terrazza
DESCRIPTION:Delicious food and drinks in the lounge\, live DJ\, dancing. Unwind after work.
URL:https://perthamboynow.com/event/latin-fridays-terrazza/2019-04-05/
LOCATION:La Terrazza Restaurant\, 273 High St\, Perth Amboy\, NJ\, 08861
END:VEVENT
BEGIN:VEVENT
DTSTART;TZID=America/New_York:20190330T180000
DTEND;TZID=America/New_York:20190330T180000
DTSTAMP:20260421T044534
CREATED:20180925T194446Z
LAST-MODIFIED:20190314T205905Z
UID:10000921-1553968800-1553968800@perthamboynow.com
SUMMARY:Live Music Saturdays at Terrazza
DESCRIPTION:10pm to close enjoy drink specials\, delicious bar menu and live music by Chuchuleo. laterrazzalatina.com | ☏732-442-8100
URL:https://perthamboynow.com/event/live-music-saturdays-terrazza-4/2019-03-30/
LOCATION:La Terrazza Restaurant\, 273 High St\, Perth Amboy\, NJ\, 08861
END:VEVENT
BEGIN:VEVENT
DTSTART;TZID=America/New_York:20190329T140000
DTEND;TZID=America/New_York:20190329T140000
DTSTAMP:20260421T044534
CREATED:20190203T203836Z
LAST-MODIFIED:20190314T205752Z
UID:10001033-1553868000-1553868000@perthamboynow.com
SUMMARY:Latin Fridays at Terrazza
DESCRIPTION:Delicious food and drinks in the lounge\, live DJ\, dancing. Unwind after work.
URL:https://perthamboynow.com/event/latin-fridays-terrazza/2019-03-29/
LOCATION:La Terrazza Restaurant\, 273 High St\, Perth Amboy\, NJ\, 08861
END:VEVENT
BEGIN:VEVENT
DTSTART;TZID=America/New_York:20190323T180000
DTEND;TZID=America/New_York:20190323T180000
DTSTAMP:20260421T044534
CREATED:20180925T194446Z
LAST-MODIFIED:20190314T205905Z
UID:10000920-1553364000-1553364000@perthamboynow.com
SUMMARY:Live Music Saturdays at Terrazza
DESCRIPTION:10pm to close enjoy drink specials\, delicious bar menu and live music by Chuchuleo. laterrazzalatina.com | ☏732-442-8100
URL:https://perthamboynow.com/event/live-music-saturdays-terrazza-4/2019-03-23/
LOCATION:La Terrazza Restaurant\, 273 High St\, Perth Amboy\, NJ\, 08861
END:VEVENT
BEGIN:VEVENT
DTSTART;TZID=America/New_York:20190322T140000
DTEND;TZID=America/New_York:20190322T140000
DTSTAMP:20260421T044534
CREATED:20190203T203836Z
LAST-MODIFIED:20190314T205752Z
UID:10001032-1553263200-1553263200@perthamboynow.com
SUMMARY:Latin Fridays at Terrazza
DESCRIPTION:Delicious food and drinks in the lounge\, live DJ\, dancing. Unwind after work.
URL:https://perthamboynow.com/event/latin-fridays-terrazza/2019-03-22/
LOCATION:La Terrazza Restaurant\, 273 High St\, Perth Amboy\, NJ\, 08861
END:VEVENT
END:VCALENDAR