BEGIN:VCALENDAR
VERSION:2.0
PRODID:-//Perth Amboy Now - ECPv6.15.20//NONSGML v1.0//EN
CALSCALE:GREGORIAN
METHOD:PUBLISH
X-ORIGINAL-URL:https://perthamboynow.com
X-WR-CALDESC:Events for Perth Amboy Now
REFRESH-INTERVAL;VALUE=DURATION:PT1H
X-Robots-Tag:noindex
X-PUBLISHED-TTL:PT1H
BEGIN:VTIMEZONE
TZID:America/New_York
BEGIN:DAYLIGHT
TZOFFSETFROM:-0500
TZOFFSETTO:-0400
TZNAME:EDT
DTSTART:20170312T070000
END:DAYLIGHT
BEGIN:STANDARD
TZOFFSETFROM:-0400
TZOFFSETTO:-0500
TZNAME:EST
DTSTART:20171105T060000
END:STANDARD
BEGIN:DAYLIGHT
TZOFFSETFROM:-0500
TZOFFSETTO:-0400
TZNAME:EDT
DTSTART:20180311T070000
END:DAYLIGHT
BEGIN:STANDARD
TZOFFSETFROM:-0400
TZOFFSETTO:-0500
TZNAME:EST
DTSTART:20181104T060000
END:STANDARD
BEGIN:DAYLIGHT
TZOFFSETFROM:-0500
TZOFFSETTO:-0400
TZNAME:EDT
DTSTART:20190310T070000
END:DAYLIGHT
BEGIN:STANDARD
TZOFFSETFROM:-0400
TZOFFSETTO:-0500
TZNAME:EST
DTSTART:20191103T060000
END:STANDARD
END:VTIMEZONE
BEGIN:VEVENT
DTSTART;TZID=America/New_York:20181027T140000
DTEND;TZID=America/New_York:20181027T140000
DTSTAMP:20260421T071803
CREATED:20181011T191512Z
LAST-MODIFIED:20181016T170531Z
UID:10000927-1540648800-1540648800@perthamboynow.com
SUMMARY:Annual Halloween Costume Party at Terrazza
DESCRIPTION:Drink specials featuring $5 Brain Tumor Shots $5 Black Widow Martini $7 Green Goblin LITs.  Costume Contest\, Giveaways and Prizes.
URL:https://perthamboynow.com/event/annual-halloween-party-terrazza/
LOCATION:La Terrazza Restaurant\, 273 High St\, Perth Amboy\, NJ\, 08861
ATTACH;FMTTYPE=image/png:https://perthamboynow.com/wp-content/uploads/2018/10/Screen-Shot-2018-10-16-at-8.58.39-AM.png
END:VEVENT
BEGIN:VEVENT
DTSTART;TZID=America/New_York:20181020T180000
DTEND;TZID=America/New_York:20181020T180000
DTSTAMP:20260421T071803
CREATED:20180925T194446Z
LAST-MODIFIED:20190314T205905Z
UID:10000899-1540058400-1540058400@perthamboynow.com
SUMMARY:Live Music Saturdays at Terrazza
DESCRIPTION:10pm to close enjoy drink specials\, delicious bar menu and live music by Chuchuleo. laterrazzalatina.com | ☏732-442-8100
URL:https://perthamboynow.com/event/live-music-saturdays-terrazza-4/2018-10-20/
LOCATION:La Terrazza Restaurant\, 273 High St\, Perth Amboy\, NJ\, 08861
END:VEVENT
BEGIN:VEVENT
DTSTART;TZID=America/New_York:20181013T180000
DTEND;TZID=America/New_York:20181013T180000
DTSTAMP:20260421T071803
CREATED:20180925T194446Z
LAST-MODIFIED:20190314T205905Z
UID:10000898-1539453600-1539453600@perthamboynow.com
SUMMARY:Live Music Saturdays at Terrazza
DESCRIPTION:10pm to close enjoy drink specials\, delicious bar menu and live music by Chuchuleo. laterrazzalatina.com | ☏732-442-8100
URL:https://perthamboynow.com/event/live-music-saturdays-terrazza-4/2018-10-13/
LOCATION:La Terrazza Restaurant\, 273 High St\, Perth Amboy\, NJ\, 08861
END:VEVENT
BEGIN:VEVENT
DTSTART;TZID=America/New_York:20181006T180000
DTEND;TZID=America/New_York:20181006T180000
DTSTAMP:20260421T071803
CREATED:20180925T194446Z
LAST-MODIFIED:20190314T205905Z
UID:10000897-1538848800-1538848800@perthamboynow.com
SUMMARY:Live Music Saturdays at Terrazza
DESCRIPTION:10pm to close enjoy drink specials\, delicious bar menu and live music by Chuchuleo. laterrazzalatina.com | ☏732-442-8100
URL:https://perthamboynow.com/event/live-music-saturdays-terrazza-4/2018-10-06/
LOCATION:La Terrazza Restaurant\, 273 High St\, Perth Amboy\, NJ\, 08861
END:VEVENT
BEGIN:VEVENT
DTSTART;TZID=America/New_York:20180929T180000
DTEND;TZID=America/New_York:20180929T180000
DTSTAMP:20260421T071803
CREATED:20180925T194446Z
LAST-MODIFIED:20190314T205905Z
UID:10000896-1538244000-1538244000@perthamboynow.com
SUMMARY:Live Music Saturdays at Terrazza
DESCRIPTION:10pm to close enjoy drink specials\, delicious bar menu and live music by Chuchuleo. laterrazzalatina.com | ☏732-442-8100
URL:https://perthamboynow.com/event/live-music-saturdays-terrazza-4/2018-09-29/
LOCATION:La Terrazza Restaurant\, 273 High St\, Perth Amboy\, NJ\, 08861
END:VEVENT
BEGIN:VEVENT
DTSTART;TZID=America/New_York:20180915T160000
DTEND;TZID=America/New_York:20180915T160000
DTSTAMP:20260421T071803
CREATED:20180521T004939Z
LAST-MODIFIED:20180707T193144Z
UID:10000831-1537027200-1537027200@perthamboynow.com
SUMMARY:Live Music Saturdays at Terrazza
DESCRIPTION:Enjoy food\, drinks\, live music and dancing!
URL:https://perthamboynow.com/event/live-music-saturdays-terrazza-3/2018-09-15/
LOCATION:La Terrazza Restaurant\, 273 High St\, Perth Amboy\, NJ\, 08861
END:VEVENT
BEGIN:VEVENT
DTSTART;TZID=America/New_York:20180912T160000
DTEND;TZID=America/New_York:20180912T190000
DTSTAMP:20260421T071803
CREATED:20180521T004354Z
LAST-MODIFIED:20180620T002555Z
UID:10000797-1536768000-1536778800@perthamboynow.com
SUMMARY:Karaoke Night at Terrazza
DESCRIPTION:Music by DJ Catedral
URL:https://perthamboynow.com/event/karaoke-night-terrazza-2/2018-09-12/
LOCATION:La Terrazza Restaurant\, 273 High St\, Perth Amboy\, NJ\, 08861
ATTACH;FMTTYPE=image/jpeg:https://perthamboynow.com/wp-content/uploads/2017/06/Karaoke-Night.jpg
END:VEVENT
BEGIN:VEVENT
DTSTART;TZID=America/New_York:20180908T160000
DTEND;TZID=America/New_York:20180908T160000
DTSTAMP:20260421T071803
CREATED:20180521T004939Z
LAST-MODIFIED:20180707T193144Z
UID:10000830-1536422400-1536422400@perthamboynow.com
SUMMARY:Live Music Saturdays at Terrazza
DESCRIPTION:Enjoy food\, drinks\, live music and dancing!
URL:https://perthamboynow.com/event/live-music-saturdays-terrazza-3/2018-09-08/
LOCATION:La Terrazza Restaurant\, 273 High St\, Perth Amboy\, NJ\, 08861
END:VEVENT
BEGIN:VEVENT
DTSTART;TZID=America/New_York:20180905T160000
DTEND;TZID=America/New_York:20180905T190000
DTSTAMP:20260421T071803
CREATED:20180521T004354Z
LAST-MODIFIED:20180620T002555Z
UID:10000796-1536163200-1536174000@perthamboynow.com
SUMMARY:Karaoke Night at Terrazza
DESCRIPTION:Music by DJ Catedral
URL:https://perthamboynow.com/event/karaoke-night-terrazza-2/2018-09-05/
LOCATION:La Terrazza Restaurant\, 273 High St\, Perth Amboy\, NJ\, 08861
ATTACH;FMTTYPE=image/jpeg:https://perthamboynow.com/wp-content/uploads/2017/06/Karaoke-Night.jpg
END:VEVENT
BEGIN:VEVENT
DTSTART;TZID=America/New_York:20180901T160000
DTEND;TZID=America/New_York:20180901T160000
DTSTAMP:20260421T071803
CREATED:20180521T004939Z
LAST-MODIFIED:20180707T193144Z
UID:10000829-1535817600-1535817600@perthamboynow.com
SUMMARY:Live Music Saturdays at Terrazza
DESCRIPTION:Enjoy food\, drinks\, live music and dancing!
URL:https://perthamboynow.com/event/live-music-saturdays-terrazza-3/2018-09-01/
LOCATION:La Terrazza Restaurant\, 273 High St\, Perth Amboy\, NJ\, 08861
END:VEVENT
BEGIN:VEVENT
DTSTART;TZID=America/New_York:20180829T160000
DTEND;TZID=America/New_York:20180829T190000
DTSTAMP:20260421T071803
CREATED:20180521T004354Z
LAST-MODIFIED:20180620T002555Z
UID:10000795-1535558400-1535569200@perthamboynow.com
SUMMARY:Karaoke Night at Terrazza
DESCRIPTION:Music by DJ Catedral
URL:https://perthamboynow.com/event/karaoke-night-terrazza-2/2018-08-29/
LOCATION:La Terrazza Restaurant\, 273 High St\, Perth Amboy\, NJ\, 08861
ATTACH;FMTTYPE=image/jpeg:https://perthamboynow.com/wp-content/uploads/2017/06/Karaoke-Night.jpg
END:VEVENT
BEGIN:VEVENT
DTSTART;TZID=America/New_York:20180825T160000
DTEND;TZID=America/New_York:20180825T160000
DTSTAMP:20260421T071803
CREATED:20180521T004939Z
LAST-MODIFIED:20180707T193144Z
UID:10000828-1535212800-1535212800@perthamboynow.com
SUMMARY:Live Music Saturdays at Terrazza
DESCRIPTION:Enjoy food\, drinks\, live music and dancing!
URL:https://perthamboynow.com/event/live-music-saturdays-terrazza-3/2018-08-25/
LOCATION:La Terrazza Restaurant\, 273 High St\, Perth Amboy\, NJ\, 08861
END:VEVENT
BEGIN:VEVENT
DTSTART;TZID=America/New_York:20180822T160000
DTEND;TZID=America/New_York:20180822T190000
DTSTAMP:20260421T071803
CREATED:20180521T004354Z
LAST-MODIFIED:20180620T002555Z
UID:10000794-1534953600-1534964400@perthamboynow.com
SUMMARY:Karaoke Night at Terrazza
DESCRIPTION:Music by DJ Catedral
URL:https://perthamboynow.com/event/karaoke-night-terrazza-2/2018-08-22/
LOCATION:La Terrazza Restaurant\, 273 High St\, Perth Amboy\, NJ\, 08861
ATTACH;FMTTYPE=image/jpeg:https://perthamboynow.com/wp-content/uploads/2017/06/Karaoke-Night.jpg
END:VEVENT
BEGIN:VEVENT
DTSTART;TZID=America/New_York:20180818T160000
DTEND;TZID=America/New_York:20180818T160000
DTSTAMP:20260421T071803
CREATED:20180521T004939Z
LAST-MODIFIED:20180707T193144Z
UID:10000827-1534608000-1534608000@perthamboynow.com
SUMMARY:Live Music Saturdays at Terrazza
DESCRIPTION:Enjoy food\, drinks\, live music and dancing!
URL:https://perthamboynow.com/event/live-music-saturdays-terrazza-3/2018-08-18/
LOCATION:La Terrazza Restaurant\, 273 High St\, Perth Amboy\, NJ\, 08861
END:VEVENT
BEGIN:VEVENT
DTSTART;TZID=America/New_York:20180815T160000
DTEND;TZID=America/New_York:20180815T190000
DTSTAMP:20260421T071803
CREATED:20180521T004354Z
LAST-MODIFIED:20180620T002555Z
UID:10000793-1534348800-1534359600@perthamboynow.com
SUMMARY:Karaoke Night at Terrazza
DESCRIPTION:Music by DJ Catedral
URL:https://perthamboynow.com/event/karaoke-night-terrazza-2/2018-08-15/
LOCATION:La Terrazza Restaurant\, 273 High St\, Perth Amboy\, NJ\, 08861
ATTACH;FMTTYPE=image/jpeg:https://perthamboynow.com/wp-content/uploads/2017/06/Karaoke-Night.jpg
END:VEVENT
BEGIN:VEVENT
DTSTART;TZID=America/New_York:20180811T160000
DTEND;TZID=America/New_York:20180811T160000
DTSTAMP:20260421T071803
CREATED:20180521T004939Z
LAST-MODIFIED:20180707T193144Z
UID:10000826-1534003200-1534003200@perthamboynow.com
SUMMARY:Live Music Saturdays at Terrazza
DESCRIPTION:Enjoy food\, drinks\, live music and dancing!
URL:https://perthamboynow.com/event/live-music-saturdays-terrazza-3/2018-08-11/
LOCATION:La Terrazza Restaurant\, 273 High St\, Perth Amboy\, NJ\, 08861
END:VEVENT
BEGIN:VEVENT
DTSTART;TZID=America/New_York:20180808T160000
DTEND;TZID=America/New_York:20180808T190000
DTSTAMP:20260421T071803
CREATED:20180521T004354Z
LAST-MODIFIED:20180620T002555Z
UID:10000792-1533744000-1533754800@perthamboynow.com
SUMMARY:Karaoke Night at Terrazza
DESCRIPTION:Music by DJ Catedral
URL:https://perthamboynow.com/event/karaoke-night-terrazza-2/2018-08-08/
LOCATION:La Terrazza Restaurant\, 273 High St\, Perth Amboy\, NJ\, 08861
ATTACH;FMTTYPE=image/jpeg:https://perthamboynow.com/wp-content/uploads/2017/06/Karaoke-Night.jpg
END:VEVENT
BEGIN:VEVENT
DTSTART;TZID=America/New_York:20180804T160000
DTEND;TZID=America/New_York:20180804T160000
DTSTAMP:20260421T071803
CREATED:20180521T004939Z
LAST-MODIFIED:20180707T193144Z
UID:10000825-1533398400-1533398400@perthamboynow.com
SUMMARY:Live Music Saturdays at Terrazza
DESCRIPTION:Enjoy food\, drinks\, live music and dancing!
URL:https://perthamboynow.com/event/live-music-saturdays-terrazza-3/2018-08-04/
LOCATION:La Terrazza Restaurant\, 273 High St\, Perth Amboy\, NJ\, 08861
END:VEVENT
BEGIN:VEVENT
DTSTART;TZID=America/New_York:20180801T160000
DTEND;TZID=America/New_York:20180801T190000
DTSTAMP:20260421T071803
CREATED:20180521T004354Z
LAST-MODIFIED:20180620T002555Z
UID:10000791-1533139200-1533150000@perthamboynow.com
SUMMARY:Karaoke Night at Terrazza
DESCRIPTION:Music by DJ Catedral
URL:https://perthamboynow.com/event/karaoke-night-terrazza-2/2018-08-01/
LOCATION:La Terrazza Restaurant\, 273 High St\, Perth Amboy\, NJ\, 08861
ATTACH;FMTTYPE=image/jpeg:https://perthamboynow.com/wp-content/uploads/2017/06/Karaoke-Night.jpg
END:VEVENT
BEGIN:VEVENT
DTSTART;TZID=America/New_York:20180728T160000
DTEND;TZID=America/New_York:20180728T160000
DTSTAMP:20260421T071803
CREATED:20180521T004939Z
LAST-MODIFIED:20180707T193144Z
UID:10000824-1532793600-1532793600@perthamboynow.com
SUMMARY:Live Music Saturdays at Terrazza
DESCRIPTION:Enjoy food\, drinks\, live music and dancing!
URL:https://perthamboynow.com/event/live-music-saturdays-terrazza-3/2018-07-28/
LOCATION:La Terrazza Restaurant\, 273 High St\, Perth Amboy\, NJ\, 08861
END:VEVENT
BEGIN:VEVENT
DTSTART;TZID=America/New_York:20180725T160000
DTEND;TZID=America/New_York:20180725T190000
DTSTAMP:20260421T071803
CREATED:20180521T004354Z
LAST-MODIFIED:20180620T002555Z
UID:10000790-1532534400-1532545200@perthamboynow.com
SUMMARY:Karaoke Night at Terrazza
DESCRIPTION:Music by DJ Catedral
URL:https://perthamboynow.com/event/karaoke-night-terrazza-2/2018-07-25/
LOCATION:La Terrazza Restaurant\, 273 High St\, Perth Amboy\, NJ\, 08861
ATTACH;FMTTYPE=image/jpeg:https://perthamboynow.com/wp-content/uploads/2017/06/Karaoke-Night.jpg
END:VEVENT
BEGIN:VEVENT
DTSTART;TZID=America/New_York:20180721T160000
DTEND;TZID=America/New_York:20180721T160000
DTSTAMP:20260421T071803
CREATED:20180521T004939Z
LAST-MODIFIED:20180707T193144Z
UID:10000823-1532188800-1532188800@perthamboynow.com
SUMMARY:Live Music Saturdays at Terrazza
DESCRIPTION:Enjoy food\, drinks\, live music and dancing!
URL:https://perthamboynow.com/event/live-music-saturdays-terrazza-3/2018-07-21/
LOCATION:La Terrazza Restaurant\, 273 High St\, Perth Amboy\, NJ\, 08861
END:VEVENT
BEGIN:VEVENT
DTSTART;TZID=America/New_York:20180718T160000
DTEND;TZID=America/New_York:20180718T190000
DTSTAMP:20260421T071803
CREATED:20180521T004354Z
LAST-MODIFIED:20180620T002555Z
UID:10000789-1531929600-1531940400@perthamboynow.com
SUMMARY:Karaoke Night at Terrazza
DESCRIPTION:Music by DJ Catedral
URL:https://perthamboynow.com/event/karaoke-night-terrazza-2/2018-07-18/
LOCATION:La Terrazza Restaurant\, 273 High St\, Perth Amboy\, NJ\, 08861
ATTACH;FMTTYPE=image/jpeg:https://perthamboynow.com/wp-content/uploads/2017/06/Karaoke-Night.jpg
END:VEVENT
BEGIN:VEVENT
DTSTART;TZID=America/New_York:20180714T160000
DTEND;TZID=America/New_York:20180714T160000
DTSTAMP:20260421T071803
CREATED:20180521T004939Z
LAST-MODIFIED:20180707T193144Z
UID:10000822-1531584000-1531584000@perthamboynow.com
SUMMARY:Live Music Saturdays at Terrazza
DESCRIPTION:Enjoy food\, drinks\, live music and dancing!
URL:https://perthamboynow.com/event/live-music-saturdays-terrazza-3/2018-07-14/
LOCATION:La Terrazza Restaurant\, 273 High St\, Perth Amboy\, NJ\, 08861
END:VEVENT
BEGIN:VEVENT
DTSTART;TZID=America/New_York:20180711T160000
DTEND;TZID=America/New_York:20180711T190000
DTSTAMP:20260421T071803
CREATED:20180521T004354Z
LAST-MODIFIED:20180620T002555Z
UID:10000788-1531324800-1531335600@perthamboynow.com
SUMMARY:Karaoke Night at Terrazza
DESCRIPTION:Music by DJ Catedral
URL:https://perthamboynow.com/event/karaoke-night-terrazza-2/2018-07-11/
LOCATION:La Terrazza Restaurant\, 273 High St\, Perth Amboy\, NJ\, 08861
ATTACH;FMTTYPE=image/jpeg:https://perthamboynow.com/wp-content/uploads/2017/06/Karaoke-Night.jpg
END:VEVENT
BEGIN:VEVENT
DTSTART;TZID=America/New_York:20180707T160000
DTEND;TZID=America/New_York:20180707T160000
DTSTAMP:20260421T071803
CREATED:20180521T004939Z
LAST-MODIFIED:20180707T193144Z
UID:10000821-1530979200-1530979200@perthamboynow.com
SUMMARY:Live Music Saturdays at Terrazza
DESCRIPTION:Enjoy food\, drinks\, live music and dancing!
URL:https://perthamboynow.com/event/live-music-saturdays-terrazza-3/2018-07-07/
LOCATION:La Terrazza Restaurant\, 273 High St\, Perth Amboy\, NJ\, 08861
END:VEVENT
BEGIN:VEVENT
DTSTART;TZID=America/New_York:20180704T160000
DTEND;TZID=America/New_York:20180704T190000
DTSTAMP:20260421T071803
CREATED:20180521T004354Z
LAST-MODIFIED:20180620T002555Z
UID:10000787-1530720000-1530730800@perthamboynow.com
SUMMARY:Karaoke Night at Terrazza
DESCRIPTION:Music by DJ Catedral
URL:https://perthamboynow.com/event/karaoke-night-terrazza-2/2018-07-04/
LOCATION:La Terrazza Restaurant\, 273 High St\, Perth Amboy\, NJ\, 08861
ATTACH;FMTTYPE=image/jpeg:https://perthamboynow.com/wp-content/uploads/2017/06/Karaoke-Night.jpg
END:VEVENT
BEGIN:VEVENT
DTSTART;TZID=America/New_York:20180630T160000
DTEND;TZID=America/New_York:20180630T160000
DTSTAMP:20260421T071803
CREATED:20180521T004939Z
LAST-MODIFIED:20180707T193144Z
UID:10000820-1530374400-1530374400@perthamboynow.com
SUMMARY:Live Music Saturdays at Terrazza
DESCRIPTION:Enjoy food\, drinks\, live music and dancing!
URL:https://perthamboynow.com/event/live-music-saturdays-terrazza-3/2018-06-30/
LOCATION:La Terrazza Restaurant\, 273 High St\, Perth Amboy\, NJ\, 08861
END:VEVENT
BEGIN:VEVENT
DTSTART;TZID=America/New_York:20180627T160000
DTEND;TZID=America/New_York:20180627T190000
DTSTAMP:20260421T071803
CREATED:20180521T004354Z
LAST-MODIFIED:20180620T002555Z
UID:10000786-1530115200-1530126000@perthamboynow.com
SUMMARY:Karaoke Night at Terrazza
DESCRIPTION:Music by DJ Catedral
URL:https://perthamboynow.com/event/karaoke-night-terrazza-2/2018-06-27/
LOCATION:La Terrazza Restaurant\, 273 High St\, Perth Amboy\, NJ\, 08861
ATTACH;FMTTYPE=image/jpeg:https://perthamboynow.com/wp-content/uploads/2017/06/Karaoke-Night.jpg
END:VEVENT
BEGIN:VEVENT
DTSTART;TZID=America/New_York:20180623T160000
DTEND;TZID=America/New_York:20180623T160000
DTSTAMP:20260421T071803
CREATED:20180521T004939Z
LAST-MODIFIED:20180707T193144Z
UID:10000819-1529769600-1529769600@perthamboynow.com
SUMMARY:Live Music Saturdays at Terrazza
DESCRIPTION:Enjoy food\, drinks\, live music and dancing!
URL:https://perthamboynow.com/event/live-music-saturdays-terrazza-3/2018-06-23/
LOCATION:La Terrazza Restaurant\, 273 High St\, Perth Amboy\, NJ\, 08861
END:VEVENT
END:VCALENDAR