BEGIN:VCALENDAR
VERSION:2.0
PRODID:-//Perth Amboy Now - ECPv6.15.20//NONSGML v1.0//EN
CALSCALE:GREGORIAN
METHOD:PUBLISH
X-WR-CALNAME:Perth Amboy Now
X-ORIGINAL-URL:https://perthamboynow.com
X-WR-CALDESC:Events for Perth Amboy Now
REFRESH-INTERVAL;VALUE=DURATION:PT1H
X-Robots-Tag:noindex
X-PUBLISHED-TTL:PT1H
BEGIN:VTIMEZONE
TZID:America/New_York
BEGIN:DAYLIGHT
TZOFFSETFROM:-0500
TZOFFSETTO:-0400
TZNAME:EDT
DTSTART:20160313T070000
END:DAYLIGHT
BEGIN:STANDARD
TZOFFSETFROM:-0400
TZOFFSETTO:-0500
TZNAME:EST
DTSTART:20161106T060000
END:STANDARD
BEGIN:DAYLIGHT
TZOFFSETFROM:-0500
TZOFFSETTO:-0400
TZNAME:EDT
DTSTART:20170312T070000
END:DAYLIGHT
BEGIN:STANDARD
TZOFFSETFROM:-0400
TZOFFSETTO:-0500
TZNAME:EST
DTSTART:20171105T060000
END:STANDARD
BEGIN:DAYLIGHT
TZOFFSETFROM:-0500
TZOFFSETTO:-0400
TZNAME:EDT
DTSTART:20180311T070000
END:DAYLIGHT
BEGIN:STANDARD
TZOFFSETFROM:-0400
TZOFFSETTO:-0500
TZNAME:EST
DTSTART:20181104T060000
END:STANDARD
BEGIN:DAYLIGHT
TZOFFSETFROM:-0500
TZOFFSETTO:-0400
TZNAME:EDT
DTSTART:20190310T070000
END:DAYLIGHT
BEGIN:STANDARD
TZOFFSETFROM:-0400
TZOFFSETTO:-0500
TZNAME:EST
DTSTART:20191103T060000
END:STANDARD
END:VTIMEZONE
BEGIN:VEVENT
DTSTART;TZID=America/New_York:20180909T090000
DTEND;TZID=America/New_York:20180909T110000
DTSTAMP:20260421T064837
CREATED:20180903T183521Z
LAST-MODIFIED:20180908T183123Z
UID:10000873-1536483600-1536490800@perthamboynow.com
SUMMARY:Coffee House
DESCRIPTION:Live acoustic music by EMKAYS in the Proprietary House wine cellar. Free to enter. $5 bottomless cups of coffee or tea and $5 dessert plates.
URL:https://perthamboynow.com/event/coffee-house/
LOCATION:Proprietary House\, 149 Kearny Ave\, Perth Amboy\, NJ\, 08861\, United States
ATTACH;FMTTYPE=image/jpeg:https://perthamboynow.com/wp-content/uploads/2017/08/tea-prop-house.jpg
END:VEVENT
BEGIN:VEVENT
DTSTART;TZID=America/New_York:20180822T090000
DTEND;TZID=America/New_York:20180822T120000
DTSTAMP:20260421T064837
CREATED:20180725T011618Z
LAST-MODIFIED:20180725T011912Z
UID:10000860-1534928400-1534939200@perthamboynow.com
SUMMARY:Proprietary House's Tercentennial Celebration Exhibit - Part One
DESCRIPTION:Part one of a special three-part exhibit celebrating the City of Perth Amboy’s 300th Birthday. Photos\, engravings and other images provide an illustrated tour of Perth Amboy through the centuries. In cooperation with Perth Amboy Free Public Library.
URL:https://perthamboynow.com/event/proprietary-houses-tercentennial-celebration-exhibit-part-one/2018-08-22/
LOCATION:Proprietary House\, 149 Kearny Ave\, Perth Amboy\, NJ\, 08861\, United States
END:VEVENT
BEGIN:VEVENT
DTSTART;TZID=America/New_York:20180819T090000
DTEND;TZID=America/New_York:20180819T120000
DTSTAMP:20260421T064837
CREATED:20180725T011618Z
LAST-MODIFIED:20180725T011912Z
UID:10000859-1534669200-1534680000@perthamboynow.com
SUMMARY:Proprietary House's Tercentennial Celebration Exhibit - Part One
DESCRIPTION:Part one of a special three-part exhibit celebrating the City of Perth Amboy’s 300th Birthday. Photos\, engravings and other images provide an illustrated tour of Perth Amboy through the centuries. In cooperation with Perth Amboy Free Public Library.
URL:https://perthamboynow.com/event/proprietary-houses-tercentennial-celebration-exhibit-part-one/2018-08-19/
LOCATION:Proprietary House\, 149 Kearny Ave\, Perth Amboy\, NJ\, 08861\, United States
END:VEVENT
BEGIN:VEVENT
DTSTART;TZID=America/New_York:20180815T090000
DTEND;TZID=America/New_York:20180815T120000
DTSTAMP:20260421T064837
CREATED:20180725T011618Z
LAST-MODIFIED:20180725T011912Z
UID:10000858-1534323600-1534334400@perthamboynow.com
SUMMARY:Proprietary House's Tercentennial Celebration Exhibit - Part One
DESCRIPTION:Part one of a special three-part exhibit celebrating the City of Perth Amboy’s 300th Birthday. Photos\, engravings and other images provide an illustrated tour of Perth Amboy through the centuries. In cooperation with Perth Amboy Free Public Library.
URL:https://perthamboynow.com/event/proprietary-houses-tercentennial-celebration-exhibit-part-one/2018-08-15/
LOCATION:Proprietary House\, 149 Kearny Ave\, Perth Amboy\, NJ\, 08861\, United States
END:VEVENT
BEGIN:VEVENT
DTSTART;TZID=America/New_York:20180812T090000
DTEND;TZID=America/New_York:20180812T120000
DTSTAMP:20260421T064837
CREATED:20180725T011618Z
LAST-MODIFIED:20180725T011912Z
UID:10000857-1534064400-1534075200@perthamboynow.com
SUMMARY:Proprietary House's Tercentennial Celebration Exhibit - Part One
DESCRIPTION:Part one of a special three-part exhibit celebrating the City of Perth Amboy’s 300th Birthday. Photos\, engravings and other images provide an illustrated tour of Perth Amboy through the centuries. In cooperation with Perth Amboy Free Public Library.
URL:https://perthamboynow.com/event/proprietary-houses-tercentennial-celebration-exhibit-part-one/2018-08-12/
LOCATION:Proprietary House\, 149 Kearny Ave\, Perth Amboy\, NJ\, 08861\, United States
END:VEVENT
BEGIN:VEVENT
DTSTART;TZID=America/New_York:20180808T090000
DTEND;TZID=America/New_York:20180808T120000
DTSTAMP:20260421T064837
CREATED:20180725T011618Z
LAST-MODIFIED:20180725T011912Z
UID:10000856-1533718800-1533729600@perthamboynow.com
SUMMARY:Proprietary House's Tercentennial Celebration Exhibit - Part One
DESCRIPTION:Part one of a special three-part exhibit celebrating the City of Perth Amboy’s 300th Birthday. Photos\, engravings and other images provide an illustrated tour of Perth Amboy through the centuries. In cooperation with Perth Amboy Free Public Library.
URL:https://perthamboynow.com/event/proprietary-houses-tercentennial-celebration-exhibit-part-one/2018-08-08/
LOCATION:Proprietary House\, 149 Kearny Ave\, Perth Amboy\, NJ\, 08861\, United States
END:VEVENT
BEGIN:VEVENT
DTSTART;TZID=America/New_York:20180805T090000
DTEND;TZID=America/New_York:20180805T120000
DTSTAMP:20260421T064837
CREATED:20180725T011618Z
LAST-MODIFIED:20180725T011912Z
UID:10000855-1533459600-1533470400@perthamboynow.com
SUMMARY:Proprietary House's Tercentennial Celebration Exhibit - Part One
DESCRIPTION:Part one of a special three-part exhibit celebrating the City of Perth Amboy’s 300th Birthday. Photos\, engravings and other images provide an illustrated tour of Perth Amboy through the centuries. In cooperation with Perth Amboy Free Public Library.
URL:https://perthamboynow.com/event/proprietary-houses-tercentennial-celebration-exhibit-part-one/2018-08-05/
LOCATION:Proprietary House\, 149 Kearny Ave\, Perth Amboy\, NJ\, 08861\, United States
END:VEVENT
BEGIN:VEVENT
DTSTART;TZID=America/New_York:20180804T150000
DTEND;TZID=America/New_York:20180804T170000
DTSTAMP:20260421T064837
CREATED:20180725T010328Z
LAST-MODIFIED:20180725T010712Z
UID:10000853-1533394800-1533402000@perthamboynow.com
SUMMARY:A Colonial Dance Block Party
DESCRIPTION:It’s the 300th anniversary of Perth Amboy’s Royal Charter and Proprietary House Museum is throwing a block party to celebrate! SUGGESTED DONATION: $5 per Person. Authentic Colonial Dancing & Instruction by The North River Historical Dancers. Live Period Music by Ridley & Anne Enslow. Special “Tercentennial Celebration” Exhibit on Display in Museum. Light Refreshments & Gift Shop. 18th Century Period Attire Encouraged ~ Not Required!
URL:https://perthamboynow.com/event/colonial-dance-block-party/
LOCATION:Proprietary House\, 149 Kearny Ave\, Perth Amboy\, NJ\, 08861\, United States
END:VEVENT
BEGIN:VEVENT
DTSTART;TZID=America/New_York:20180804T110000
DTEND;TZID=America/New_York:20180804T170000
DTSTAMP:20260421T064837
CREATED:20180725T011618Z
LAST-MODIFIED:20180725T011912Z
UID:10000854-1533380400-1533402000@perthamboynow.com
SUMMARY:Proprietary House's Tercentennial Celebration Exhibit - Part One
DESCRIPTION:Part one of a special three-part exhibit celebrating the City of Perth Amboy’s 300th Birthday. Photos\, engravings and other images provide an illustrated tour of Perth Amboy through the centuries. In cooperation with Perth Amboy Free Public Library.
URL:https://perthamboynow.com/event/proprietary-houses-tercentennial-celebration-exhibit-part-one/2018-08-04/
LOCATION:Proprietary House\, 149 Kearny Ave\, Perth Amboy\, NJ\, 08861\, United States
END:VEVENT
BEGIN:VEVENT
DTSTART;TZID=America/New_York:20180726T143000
DTEND;TZID=America/New_York:20180726T160000
DTSTAMP:20260421T064837
CREATED:20180622T004747Z
LAST-MODIFIED:20180622T004747Z
UID:10000430-1532615400-1532620800@perthamboynow.com
SUMMARY:Perth Amboy Arts Council Meeting
DESCRIPTION:The Perth Amboy Arts Council meets at 6:30pm at The Proprietary House – 149 Kearney Avenue\, Street Perth Amboy\, NJ. All are welcome.
URL:https://perthamboynow.com/event/perth-amboy-arts-council-meeting-9/
LOCATION:Proprietary House\, 149 Kearny Ave\, Perth Amboy\, NJ\, 08861\, United States
ATTACH;FMTTYPE=image/jpeg:https://perthamboynow.com/wp-content/uploads/2017/03/A113.jpg
END:VEVENT
BEGIN:VEVENT
DTSTART;TZID=America/New_York:20180610T090000
DTEND;TZID=America/New_York:20180610T120000
DTSTAMP:20260421T064837
CREATED:20180521T230658Z
LAST-MODIFIED:20180521T230658Z
UID:10000385-1528621200-1528632000@perthamboynow.com
SUMMARY:Arrest of William Franklin Reenactment at Proprietary House
DESCRIPTION:The annual reenactment of the arrest of Gov. William Franklin.
URL:https://perthamboynow.com/event/arrest-william-franklin-reenactment-proprietary-house/
LOCATION:Proprietary House\, 149 Kearny Ave\, Perth Amboy\, NJ\, 08861\, United States
END:VEVENT
BEGIN:VEVENT
DTSTART;TZID=America/New_York:20180601T143000
DTEND;TZID=America/New_York:20180601T170000
DTSTAMP:20260421T064837
CREATED:20180523T000526Z
LAST-MODIFIED:20180523T001122Z
UID:10000407-1527863400-1527872400@perthamboynow.com
SUMMARY:Colonial Tavern Night at Proprietary House
DESCRIPTION:An evening of merriment at a “Colonial Tavern Night.” Space is limited. Please reserve your tickets ($75 per person – must be 21 or over) Craft beer sampling with Gov William Franklin\, wine\, soft drinks & light fare. Colonial music and games. Tour and gift shop will be open. Benefit to restore Proprietary House. (732) 826-5527
URL:https://perthamboynow.com/event/colonial-tavern-night-proprietary-house-2/
LOCATION:Proprietary House\, 149 Kearny Ave\, Perth Amboy\, NJ\, 08861\, United States
END:VEVENT
BEGIN:VEVENT
DTSTART;TZID=America/New_York:20180426T143000
DTEND;TZID=America/New_York:20180426T160000
DTSTAMP:20260421T064837
CREATED:20180308T005114Z
LAST-MODIFIED:20180407T192855Z
UID:10000357-1524753000-1524758400@perthamboynow.com
SUMMARY:Perth Amboy Arts Council Meeting
DESCRIPTION:All are welcome. Meeting at Proprietary House.
URL:https://perthamboynow.com/event/perth-amboy-arts-council-meeting-8/
LOCATION:Proprietary House\, 149 Kearny Ave\, Perth Amboy\, NJ\, 08861\, United States
ATTACH;FMTTYPE=image/jpeg:https://perthamboynow.com/wp-content/uploads/2017/03/A113.jpg
END:VEVENT
BEGIN:VEVENT
DTSTART;TZID=America/New_York:20180218T080000
DTEND;TZID=America/New_York:20180218T110000
DTSTAMP:20260421T064837
CREATED:20180124T005325Z
LAST-MODIFIED:20180124T005400Z
UID:10000342-1518940800-1518951600@perthamboynow.com
SUMMARY:A Military Timeline
DESCRIPTION:Proprietary House Open House and Military Timeline\, featuring uniformed re-enactors depicting the Revolutionary War thru conflicts of the 20th century. Arms\, soldiers’ kit & equipment from the various eras will be on display. FREE Details
URL:https://perthamboynow.com/event/a-military-timeline/
LOCATION:Proprietary House\, 149 Kearny Ave\, Perth Amboy\, NJ\, 08861\, United States
END:VEVENT
BEGIN:VEVENT
DTSTART;TZID=America/New_York:20180214T140000
DTEND;TZID=America/New_York:20180214T160000
DTSTAMP:20260421T064837
CREATED:20180124T004702Z
LAST-MODIFIED:20180124T004702Z
UID:10000340-1518616800-1518624000@perthamboynow.com
SUMMARY:A Delightful Valentine's Day Tea
DESCRIPTION:Celebrate Valentine’s Day with a delightful tea at the Royal Governor’s Mansion\, from 1 to 4 PM or 7 to 9 PM. Assorted teas & sparkling beverages\, scrumptious desserts\, chocolates & other treats will be served by candlelight in the mansion’s atmospheric colonial brick and stone wine cellar. $13 per Person / $25 per Couple. Space is limited. Reservations Required. Details
URL:https://perthamboynow.com/event/delightful-valentines-day-tea/2018-02-14/2/
LOCATION:Proprietary House\, 149 Kearny Ave\, Perth Amboy\, NJ\, 08861\, United States
END:VEVENT
BEGIN:VEVENT
DTSTART;TZID=America/New_York:20180214T080000
DTEND;TZID=America/New_York:20180214T110000
DTSTAMP:20260421T064837
CREATED:20180124T004702Z
LAST-MODIFIED:20180124T004702Z
UID:10000339-1518595200-1518606000@perthamboynow.com
SUMMARY:A Delightful Valentine's Day Tea
DESCRIPTION:Celebrate Valentine’s Day with a delightful tea at the Royal Governor’s Mansion\, from 1 to 4 PM or 7 to 9 PM. Assorted teas & sparkling beverages\, scrumptious desserts\, chocolates & other treats will be served by candlelight in the mansion’s atmospheric colonial brick and stone wine cellar. $13 per Person / $25 per Couple. Space is limited. Reservations Required. Details
URL:https://perthamboynow.com/event/delightful-valentines-day-tea/2018-02-14/1/
LOCATION:Proprietary House\, 149 Kearny Ave\, Perth Amboy\, NJ\, 08861\, United States
END:VEVENT
BEGIN:VEVENT
DTSTART;TZID=America/New_York:20180131T080000
DTEND;TZID=America/New_York:20180131T110000
DTSTAMP:20260421T064837
CREATED:20180124T003749Z
LAST-MODIFIED:20180124T003749Z
UID:10000337-1517385600-1517396400@perthamboynow.com
SUMMARY:Proprietary House Afternoon Tea and Tour
DESCRIPTION:Free tour. $ Tea and homemade desserts served in the colonial brick wine cellar.
URL:https://perthamboynow.com/event/proprietary-house-afternoon-tea-tour/2018-01-31/
LOCATION:Proprietary House\, 149 Kearny Ave\, Perth Amboy\, NJ\, 08861\, United States
END:VEVENT
BEGIN:VEVENT
DTSTART;TZID=America/New_York:20180128T080000
DTEND;TZID=America/New_York:20180128T110000
DTSTAMP:20260421T064837
CREATED:20180124T003749Z
LAST-MODIFIED:20180124T003749Z
UID:10000336-1517126400-1517137200@perthamboynow.com
SUMMARY:Proprietary House Afternoon Tea and Tour
DESCRIPTION:Free tour. $ Tea and homemade desserts served in the colonial brick wine cellar.
URL:https://perthamboynow.com/event/proprietary-house-afternoon-tea-tour/2018-01-28/
LOCATION:Proprietary House\, 149 Kearny Ave\, Perth Amboy\, NJ\, 08861\, United States
END:VEVENT
BEGIN:VEVENT
DTSTART;TZID=America/New_York:20180124T080000
DTEND;TZID=America/New_York:20180124T110000
DTSTAMP:20260421T064837
CREATED:20180124T003749Z
LAST-MODIFIED:20180124T003749Z
UID:10000335-1516780800-1516791600@perthamboynow.com
SUMMARY:Proprietary House Afternoon Tea and Tour
DESCRIPTION:Free tour. $ Tea and homemade desserts served in the colonial brick wine cellar.
URL:https://perthamboynow.com/event/proprietary-house-afternoon-tea-tour/2018-01-24/
LOCATION:Proprietary House\, 149 Kearny Ave\, Perth Amboy\, NJ\, 08861\, United States
END:VEVENT
BEGIN:VEVENT
DTSTART;TZID=America/New_York:20180107T080000
DTEND;TZID=America/New_York:20180107T110000
DTSTAMP:20260421T064837
CREATED:20180106T003809Z
LAST-MODIFIED:20180106T003809Z
UID:10000674-1515312000-1515322800@perthamboynow.com
SUMMARY:New Year Open House at Proprietary House
DESCRIPTION:There is still one last chance to tour the historic Royal Governor’s Mansion decorated for the holidays!  View the museum’s rooms decorated for “A White Christmas” by Proprietary House Association volunteers and Perth Amboy’s Royal Garden Club. Shop for souvenirs\, collectibles and other items for sale in our Gift Shop\, located in the mansion’s colonial kitchen.\nFREE ADMISSION!!!
URL:https://perthamboynow.com/event/new-year-open-house-proprietary-house/
LOCATION:Proprietary House\, 149 Kearny Ave\, Perth Amboy\, NJ\, 08861\, United States
END:VEVENT
BEGIN:VEVENT
DTSTART;TZID=America/New_York:20171217T080000
DTEND;TZID=America/New_York:20171217T110000
DTSTAMP:20260421T064837
CREATED:20171213T024710Z
LAST-MODIFIED:20171213T025208Z
UID:10000289-1513497600-1513508400@perthamboynow.com
SUMMARY:Holiday Open House at Proprietary House
DESCRIPTION:Enjoy some holiday cheer and tour the historic Royal Governors mansion decorated for the holidays at the Holiday Open House on Sunday\, Dec 17th from 1 to 4 PM. Enjoy seasonal refreshments\, shop in the Gift Shop. Free admission.
URL:https://perthamboynow.com/event/holiday-open-house-proprietary-house/
LOCATION:Proprietary House\, 149 Kearny Ave\, Perth Amboy\, NJ\, 08861\, United States
ATTACH;FMTTYPE=image/png:https://perthamboynow.com/wp-content/uploads/2017/12/Screen-Shot-2017-12-12-at-4.48.11-PM.png
END:VEVENT
BEGIN:VEVENT
DTSTART;TZID=America/New_York:20171203T080000
DTEND;TZID=America/New_York:20171203T120000
DTSTAMP:20260421T064838
CREATED:20171031T170236Z
LAST-MODIFIED:20171120T203136Z
UID:10000611-1512288000-1512302400@perthamboynow.com
SUMMARY:Old Amboy Homes for the Holidays
DESCRIPTION:Tour some of Perth Amboy’s historic private homes decorated for the holidays. Tour Proprietary House’s museum rooms decorated by the Royal Garden Club for “A White Christmas.” Seasonal Refreshments – Holiday Music & Good Cheer! Souvenirs\, collectibles and other items for sale in our Gift Shop. Tour starts at Proprietary House. Tickets: In Advance – $35  in advance; $40 at the door. info@proprietaryhouse.org or 732-826-5527
URL:https://perthamboynow.com/event/old-amboy-homes-holidays/
LOCATION:Proprietary House\, 149 Kearny Ave\, Perth Amboy\, NJ\, 08861\, United States
ATTACH;FMTTYPE=image/jpeg:https://perthamboynow.com/wp-content/uploads/2017/11/fullsizeoutput_2d45.jpeg
END:VEVENT
BEGIN:VEVENT
DTSTART;TZID=America/New_York:20171014T150000
DTEND;TZID=America/New_York:20171014T180000
DTSTAMP:20260421T064838
CREATED:20170923T233350Z
LAST-MODIFIED:20170923T233847Z
UID:10000589-1507993200-1508004000@perthamboynow.com
SUMMARY:Ghosts of Proprietary House\, a Haunted History Tour
DESCRIPTION:Tour at 7pm and 8:30pm. $15 Take a  journey through centuries of history. Some ghoulish former residents will lead you through our creepy mansion. Who knows what spirits your presence may disturb? Featured stops on the tour are a former dungeon during the Revolution and a haunted staircase that was the scene of a murder. Details
URL:https://perthamboynow.com/event/ghosts-proprietary-house-haunted-history-tour/2017-10-14/
LOCATION:Proprietary House\, 149 Kearny Ave\, Perth Amboy\, NJ\, 08861\, United States
ATTACH;FMTTYPE=image/jpeg:https://perthamboynow.com/wp-content/uploads/2016/10/haunted-prop-house.jpg
END:VEVENT
BEGIN:VEVENT
DTSTART;TZID=America/New_York:20171013T150000
DTEND;TZID=America/New_York:20171013T180000
DTSTAMP:20260421T064838
CREATED:20170923T233350Z
LAST-MODIFIED:20170923T233847Z
UID:10000588-1507906800-1507917600@perthamboynow.com
SUMMARY:Ghosts of Proprietary House\, a Haunted History Tour
DESCRIPTION:Tour at 7pm and 8:30pm. $15 Take a  journey through centuries of history. Some ghoulish former residents will lead you through our creepy mansion. Who knows what spirits your presence may disturb? Featured stops on the tour are a former dungeon during the Revolution and a haunted staircase that was the scene of a murder. Details
URL:https://perthamboynow.com/event/ghosts-proprietary-house-haunted-history-tour/2017-10-13/
LOCATION:Proprietary House\, 149 Kearny Ave\, Perth Amboy\, NJ\, 08861\, United States
ATTACH;FMTTYPE=image/jpeg:https://perthamboynow.com/wp-content/uploads/2016/10/haunted-prop-house.jpg
END:VEVENT
BEGIN:VEVENT
DTSTART;TZID=America/New_York:20171008T090000
DTEND;TZID=America/New_York:20171008T120000
DTSTAMP:20260421T064838
CREATED:20170920T011010Z
LAST-MODIFIED:20171006T163700Z
UID:10000580-1507453200-1507464000@perthamboynow.com
SUMMARY:A Victorian Tea and Fashion Show
DESCRIPTION:Enjoy a Victorian fashion show while sampling tea\, scones & Devonshire cream\, chocolates and sweets. Victorian history. Games and Prizes. Limited space\, to reserve call 732-826-5527or email info@theproprietaryhouse.orgto reserve and purchase tickets. Admission: $35 ($30 for Members) Details
URL:https://perthamboynow.com/event/victorian-tea-fashion-show/
LOCATION:Proprietary House\, 149 Kearny Ave\, Perth Amboy\, NJ\, 08861\, United States
ATTACH;FMTTYPE=image/jpeg:https://perthamboynow.com/wp-content/uploads/2017/09/22096258_1150774018357633_8018465269384405840_o.jpg
END:VEVENT
BEGIN:VEVENT
DTSTART;TZID=America/New_York:20170917T090000
DTEND;TZID=America/New_York:20170917T130000
DTSTAMP:20260421T064838
CREATED:20170827T182811Z
LAST-MODIFIED:20170905T184358Z
UID:10000139-1505638800-1505653200@perthamboynow.com
SUMMARY:Terra Cotta History Tour
DESCRIPTION:Terra Cotta\, Perth Amboy’s Lasting Legacy will take you on a journey back to when Perth Amboy was the terra cotta capital of the world! The Proprietary House offers a tour that features the background history of the local industry & a special slide show with long-ago views. There is a choice of a guided bus tour or a self-guided driving tour of unique examples of surviving terra cotta. The afternoon ends with a reception at a Victorian-era home overlooking Raritan Bay. ADMISSION: Program & Reception w/ Guided Bus Tour $40 ($35 for Members); or Program & Reception w/ Self-guided Tour $25 ($20 for Members). Details
URL:https://perthamboynow.com/event/terra-cotta-tour/
LOCATION:Proprietary House\, 149 Kearny Ave\, Perth Amboy\, NJ\, 08861\, United States
END:VEVENT
BEGIN:VEVENT
DTSTART;TZID=America/New_York:20170910T090000
DTEND;TZID=America/New_York:20170910T120000
DTSTAMP:20260421T064838
CREATED:20170906T234448Z
LAST-MODIFIED:20170906T234448Z
UID:10000147-1505034000-1505044800@perthamboynow.com
SUMMARY:Afternoon Tea and Tour of Proprietary House
DESCRIPTION:
URL:https://perthamboynow.com/event/afternoon-tea-tour-proprietary-house-6/
LOCATION:Proprietary House\, 149 Kearny Ave\, Perth Amboy\, NJ\, 08861\, United States
ATTACH;FMTTYPE=image/jpeg:https://perthamboynow.com/wp-content/uploads/2016/06/10377639_10152622384596874_1814826462105037589_n.jpg
END:VEVENT
BEGIN:VEVENT
DTSTART;TZID=America/New_York:20170903T090000
DTEND;TZID=America/New_York:20170903T120000
DTSTAMP:20260421T064838
CREATED:20170827T183216Z
LAST-MODIFIED:20170827T183419Z
UID:10000141-1504429200-1504440000@perthamboynow.com
SUMMARY:Proprietary House Open House
DESCRIPTION:Enjoy free tours of Proprietary House on Sunday from 1-4pm.
URL:https://perthamboynow.com/event/proprietary-house-open-house-12/
LOCATION:Proprietary House\, 149 Kearny Ave\, Perth Amboy\, NJ\, 08861\, United States
ATTACH;FMTTYPE=image/jpeg:https://perthamboynow.com/wp-content/uploads/2016/06/10377639_10152622384596874_1814826462105037589_n.jpg
END:VEVENT
BEGIN:VEVENT
DTSTART;TZID=America/New_York:20170830T090000
DTEND;TZID=America/New_York:20170830T120000
DTSTAMP:20260421T064838
CREATED:20170808T171602Z
LAST-MODIFIED:20170817T175213Z
UID:10000563-1504083600-1504094400@perthamboynow.com
SUMMARY:Afternoon Tea & Tour of Proprietary House
DESCRIPTION:Free tours of the museum.  Assorted teas & homemade desserts served in the colonial brick wine cellar ($10/Adult; $5/Child 12 & under).
URL:https://perthamboynow.com/event/afternoon-tea-tour-proprietary-house-4/
LOCATION:Proprietary House\, 149 Kearny Ave\, Perth Amboy\, NJ\, 08861\, United States
ATTACH;FMTTYPE=image/jpeg:https://perthamboynow.com/wp-content/uploads/2017/08/tea-prop-house.jpg
END:VEVENT
BEGIN:VEVENT
DTSTART;TZID=America/New_York:20170827T090000
DTEND;TZID=America/New_York:20170827T120000
DTSTAMP:20260421T064838
CREATED:20170808T171143Z
LAST-MODIFIED:20170817T031001Z
UID:10000133-1503824400-1503835200@perthamboynow.com
SUMMARY:Proprietary House Open House
DESCRIPTION:Enjoy free tours of Proprietary House on Sunday from 1-4pm.
URL:https://perthamboynow.com/event/proprietary-house-open-house-11/
LOCATION:Proprietary House\, 149 Kearny Ave\, Perth Amboy\, NJ\, 08861\, United States
ATTACH;FMTTYPE=image/png:https://perthamboynow.com/wp-content/uploads/2016/06/Screen-Shot-2016-06-02-at-1.24.13-PM.png
END:VEVENT
END:VCALENDAR